BEGIN:VCALENDAR
VERSION:2.0
PRODID:-//The Open Learning &amp; Teaching Collaborative - ECPv6.15.20//NONSGML v1.0//EN
CALSCALE:GREGORIAN
METHOD:PUBLISH
X-WR-CALNAME:The Open Learning &amp; Teaching Collaborative
X-ORIGINAL-URL:https://colab.plymouthcreate.net
X-WR-CALDESC:Events for The Open Learning &amp; Teaching Collaborative
REFRESH-INTERVAL;VALUE=DURATION:PT1H
X-Robots-Tag:noindex
X-PUBLISHED-TTL:PT1H
BEGIN:VTIMEZONE
TZID:America/New_York
BEGIN:DAYLIGHT
TZOFFSETFROM:-0500
TZOFFSETTO:-0400
TZNAME:EDT
DTSTART:20210314T070000
END:DAYLIGHT
BEGIN:STANDARD
TZOFFSETFROM:-0400
TZOFFSETTO:-0500
TZNAME:EST
DTSTART:20211107T060000
END:STANDARD
BEGIN:DAYLIGHT
TZOFFSETFROM:-0500
TZOFFSETTO:-0400
TZNAME:EDT
DTSTART:20220313T070000
END:DAYLIGHT
BEGIN:STANDARD
TZOFFSETFROM:-0400
TZOFFSETTO:-0500
TZNAME:EST
DTSTART:20221106T060000
END:STANDARD
BEGIN:DAYLIGHT
TZOFFSETFROM:-0500
TZOFFSETTO:-0400
TZNAME:EDT
DTSTART:20230312T070000
END:DAYLIGHT
BEGIN:STANDARD
TZOFFSETFROM:-0400
TZOFFSETTO:-0500
TZNAME:EST
DTSTART:20231105T060000
END:STANDARD
END:VTIMEZONE
BEGIN:VEVENT
DTSTART;TZID=America/New_York:20221208T143000
DTEND;TZID=America/New_York:20221208T160000
DTSTAMP:20260423T063544
CREATED:20221128T192004Z
LAST-MODIFIED:20221128T192010Z
UID:10000371-1670509800-1670515200@colab.plymouthcreate.net
SUMMARY:Mastodon Migration Extravaganza
DESCRIPTION:Join the CoLab for a workshop on moving off of commercial social networking platforms (like Twitter) and onto the open-source tool Mastodon — or learn how to just add Mastodon as another communication tool in your kit. We will talk about both the philosophical and technical differences between Mastodon and commercial providers\, and participants will have an opportunity to get signed up and get started. \n  \n  \nOops! We could not locate your form.
URL:https://colab.plymouthcreate.net/event/mastodon-migration-extravaganza/
LOCATION:Hybrid (Lamson 003 and Zoom)
CATEGORIES:Closed (PSU Only),Workshop
ORGANIZER;CN="Martha Burtis":MAILTO:mfburtis@plymouth.edu
END:VEVENT
END:VCALENDAR