BEGIN:VCALENDAR
VERSION:2.0
PRODID:-//The Open Learning &amp; Teaching Collaborative - ECPv6.15.20//NONSGML v1.0//EN
CALSCALE:GREGORIAN
METHOD:PUBLISH
X-WR-CALNAME:The Open Learning &amp; Teaching Collaborative
X-ORIGINAL-URL:https://colab.plymouthcreate.net
X-WR-CALDESC:Events for The Open Learning &amp; Teaching Collaborative
REFRESH-INTERVAL;VALUE=DURATION:PT1H
X-Robots-Tag:noindex
X-PUBLISHED-TTL:PT1H
BEGIN:VTIMEZONE
TZID:America/New_York
BEGIN:DAYLIGHT
TZOFFSETFROM:-0500
TZOFFSETTO:-0400
TZNAME:EDT
DTSTART:20210314T070000
END:DAYLIGHT
BEGIN:STANDARD
TZOFFSETFROM:-0400
TZOFFSETTO:-0500
TZNAME:EST
DTSTART:20211107T060000
END:STANDARD
BEGIN:DAYLIGHT
TZOFFSETFROM:-0500
TZOFFSETTO:-0400
TZNAME:EDT
DTSTART:20220313T070000
END:DAYLIGHT
BEGIN:STANDARD
TZOFFSETFROM:-0400
TZOFFSETTO:-0500
TZNAME:EST
DTSTART:20221106T060000
END:STANDARD
BEGIN:DAYLIGHT
TZOFFSETFROM:-0500
TZOFFSETTO:-0400
TZNAME:EDT
DTSTART:20230312T070000
END:DAYLIGHT
BEGIN:STANDARD
TZOFFSETFROM:-0400
TZOFFSETTO:-0500
TZNAME:EST
DTSTART:20231105T060000
END:STANDARD
END:VTIMEZONE
BEGIN:VEVENT
DTSTART;TZID=America/New_York:20221103T154500
DTEND;TZID=America/New_York:20221103T164500
DTSTAMP:20260420T170736
CREATED:20220709T184018Z
LAST-MODIFIED:20220907T124206Z
UID:10000345-1667490300-1667493900@colab.plymouthcreate.net
SUMMARY:Energizing the Lecture: 3 ways to Enhance Student Engagement
DESCRIPTION:We will discuss 3 evidence-based methods for incorporating active engagement activities into your lecture to improve student engagement and retention of material. These methods work for in person\, remote\, and recorded lectures. We will take time to discuss application to different disciplines. Facilitated by Professor Aimee Pascale. \nThis is a hybrid event. You are welcome to attend live in the CoLab (please wear a mask!) or on Zoom\, as you prefer.Oops! We could not locate your form.
URL:https://colab.plymouthcreate.net/event/energizing-the-lecture-3-ways-to-enhance-student-engagement/
LOCATION:Hybrid (Lamson 003 and Zoom)
CATEGORIES:Design Forward,Teaching
END:VEVENT
END:VCALENDAR