BEGIN:VCALENDAR
VERSION:2.0
PRODID:-//The Open Learning &amp; Teaching Collaborative - ECPv6.15.20//NONSGML v1.0//EN
CALSCALE:GREGORIAN
METHOD:PUBLISH
X-WR-CALNAME:The Open Learning &amp; Teaching Collaborative
X-ORIGINAL-URL:https://colab.plymouthcreate.net
X-WR-CALDESC:Events for The Open Learning &amp; Teaching Collaborative
REFRESH-INTERVAL;VALUE=DURATION:PT1H
X-Robots-Tag:noindex
X-PUBLISHED-TTL:PT1H
BEGIN:VTIMEZONE
TZID:America/New_York
BEGIN:DAYLIGHT
TZOFFSETFROM:-0500
TZOFFSETTO:-0400
TZNAME:EDT
DTSTART:20220313T070000
END:DAYLIGHT
BEGIN:STANDARD
TZOFFSETFROM:-0400
TZOFFSETTO:-0500
TZNAME:EST
DTSTART:20221106T060000
END:STANDARD
BEGIN:DAYLIGHT
TZOFFSETFROM:-0500
TZOFFSETTO:-0400
TZNAME:EDT
DTSTART:20230312T070000
END:DAYLIGHT
BEGIN:STANDARD
TZOFFSETFROM:-0400
TZOFFSETTO:-0500
TZNAME:EST
DTSTART:20231105T060000
END:STANDARD
BEGIN:DAYLIGHT
TZOFFSETFROM:-0500
TZOFFSETTO:-0400
TZNAME:EDT
DTSTART:20240310T070000
END:DAYLIGHT
BEGIN:STANDARD
TZOFFSETFROM:-0400
TZOFFSETTO:-0500
TZNAME:EST
DTSTART:20241103T060000
END:STANDARD
END:VTIMEZONE
BEGIN:VEVENT
DTSTART;TZID=America/New_York:20230126T170000
DTEND;TZID=America/New_York:20230126T180000
DTSTAMP:20260420T210032
CREATED:20221205T165503Z
LAST-MODIFIED:20221205T170606Z
UID:10000372-1674752400-1674756000@colab.plymouthcreate.net
SUMMARY:Faculty/Staff Virtual Happy Hour
DESCRIPTION:Join the CoLab folks for an hour of casual chatter\, non-work related. Relax with your beverage of choice (mulled wine? hot chocolate? tea? bourbon? cosmo?) and kick back for some laughs and relaxation with your colleagues and friends. Pets and kids\, laundry-folding\, dinner-eating\, cameras on or off– it’s all welcome! A COVID-safe way to enjoy each others’ company.Oops! We could not locate your form.
URL:https://colab.plymouthcreate.net/event/faculty-staff-happy-hour/
LOCATION:Virtual
CATEGORIES:Social
END:VEVENT
BEGIN:VEVENT
DTSTART;TZID=America/New_York:20230127T170000
DTEND;TZID=America/New_York:20230127T190000
DTSTAMP:20260420T210032
CREATED:20221122T190801Z
LAST-MODIFIED:20221205T181827Z
UID:10000370-1674838800-1674846000@colab.plymouthcreate.net
SUMMARY:Spirited Conversations: An After-hours Faculty/Staff Social
DESCRIPTION:Join your colleagues when the library is officially closed for a fun\, after-hours event. Food\, cash bar\, and a fun\, relaxing time to hang out. Prof Brian Eisenhauer will be providing live music! Bring your faculty/staff ID for admission. \nNotes about Covid-19: \n\nThe CoLab encourages all attendees to be vaccinated and boosted.\nMasks are optional at this event\, and food or drink will be served so you should expect most people to be unmasked. Remember you can still come and stay masked and you will have company in masking (Robin will be wearing her N95 the whole time!). Masks will be available at the door if you’d like one.\nPlease take a Covid-19 rapid test before attending. We will have some available at the door if you prefer to test upon arrival. Help keep your colleagues safe!\nIf you prefer a fully online social event\, join us at online Happy Hour on Thursday instead!\n\nSnow date for Spirited Conversations: Feb 3. \nOops! We could not locate your form.
URL:https://colab.plymouthcreate.net/event/spirited-conversations-an-after-hours-faculty-staff-social/
LOCATION:Lamson Library Commons Cafe
CATEGORIES:Social
END:VEVENT
END:VCALENDAR