BEGIN:VCALENDAR
VERSION:2.0
PRODID:-//The Open Learning &amp; Teaching Collaborative - ECPv6.15.20//NONSGML v1.0//EN
CALSCALE:GREGORIAN
METHOD:PUBLISH
X-WR-CALNAME:The Open Learning &amp; Teaching Collaborative
X-ORIGINAL-URL:https://colab.plymouthcreate.net
X-WR-CALDESC:Events for The Open Learning &amp; Teaching Collaborative
REFRESH-INTERVAL;VALUE=DURATION:PT1H
X-Robots-Tag:noindex
X-PUBLISHED-TTL:PT1H
BEGIN:VTIMEZONE
TZID:America/New_York
BEGIN:DAYLIGHT
TZOFFSETFROM:-0500
TZOFFSETTO:-0400
TZNAME:EDT
DTSTART:20200308T070000
END:DAYLIGHT
BEGIN:STANDARD
TZOFFSETFROM:-0400
TZOFFSETTO:-0500
TZNAME:EST
DTSTART:20201101T060000
END:STANDARD
BEGIN:DAYLIGHT
TZOFFSETFROM:-0500
TZOFFSETTO:-0400
TZNAME:EDT
DTSTART:20210314T070000
END:DAYLIGHT
BEGIN:STANDARD
TZOFFSETFROM:-0400
TZOFFSETTO:-0500
TZNAME:EST
DTSTART:20211107T060000
END:STANDARD
BEGIN:DAYLIGHT
TZOFFSETFROM:-0500
TZOFFSETTO:-0400
TZNAME:EDT
DTSTART:20220313T070000
END:DAYLIGHT
BEGIN:STANDARD
TZOFFSETFROM:-0400
TZOFFSETTO:-0500
TZNAME:EST
DTSTART:20221106T060000
END:STANDARD
END:VTIMEZONE
BEGIN:VEVENT
DTSTART;TZID=America/New_York:20210913T190000
DTEND;TZID=America/New_York:20210913T203000
DTSTAMP:20260423T153329
CREATED:20210903T145829Z
LAST-MODIFIED:20210903T155454Z
UID:10000287-1631559600-1631565000@colab.plymouthcreate.net
SUMMARY:Virtual Roundtable: NH's "Divisive Concepts" Legislation
DESCRIPTION:Join experts and academics as they discuss and take questions about New Hampshire’s recently passed “divisive concepts” legislation in this virtual roundtable. \nNew Hampshire’s Republican lawmakers have inserted\, and the governor has signed\, a state budget that prohibits the teaching of so-called “divisive concepts” related to race and gender by public schools\, state agencies and contractors. But what exactly does that mean? (read more…) \nOur panel includes a former member of the Governor’s Advisory Council on Diversity & Inclusion\, the Executive Director of the New Hampshire ACLU\, the provost at Plymouth State University\, the Chief Diversity Officer at UNH\, and USNH faculty with expertise in History\, Social Studies Education\, and Critical Race Theory.\nThis is a can’t miss event\, open to all faculty and staff in the University of New Hampshire System.\n									\n												Request Meeting Link\n											 \n\n										Request Meeting Link									\n										× \n\n\nName*\n                                                    \n                                                    First\n                                                    \n                                                    Last\n                        \nEmail*Please enter your college/university email address. NOTE: This event is restricted to USNH community members.\n                            \n                        \nCAPTCHA\nPhoneThis field is for validation purposes and should be left unchanged.\n\n          \n            \n            \n            \n            \n            \n            \n            \n                        \n                \n								\n									Close
URL:https://colab.plymouthcreate.net/event/expert-roundtable-nhs-divisive-concepts-legislation/
LOCATION:Virtual
CATEGORIES:Discussion,Inclusion,Panel,Private,Race & Anti-racism
END:VEVENT
BEGIN:VEVENT
DTSTART;TZID=America/New_York:20210923T190000
DTEND;TZID=America/New_York:20210923T200000
DTSTAMP:20260423T153329
CREATED:20210830T184107Z
LAST-MODIFIED:20210830T184145Z
UID:10000151-1632423600-1632427200@colab.plymouthcreate.net
SUMMARY:Intersectionality Talks: Travis C. Lau
DESCRIPTION:Poetry reading with Travis Chi Wing Lau. For more info\, visit the Intersectionality Talks website.
URL:https://colab.plymouthcreate.net/event/intersectionality-talks/
LOCATION:Frost House
CATEGORIES:Intersectionality Talks,Public,Race & Anti-racism
END:VEVENT
BEGIN:VEVENT
DTSTART;TZID=America/New_York:20210924T150000
DTEND;TZID=America/New_York:20210924T160000
DTSTAMP:20260423T153329
CREATED:20210830T170921Z
LAST-MODIFIED:20210830T173004Z
UID:10000149-1632495600-1632499200@colab.plymouthcreate.net
SUMMARY:Reading About "White Supremacy Culture"
DESCRIPTION:Join CoLab faculty and staff for an informal discussion of the article “White Supremacy Culture” by Teman Okun. A short 7 pages\, the article is a list of characteristics of white supremacy culture that show up in our organizations. Give it a read/skim\, grab a snack and a drink\, and Zoom in to discuss with us.\n									\n												Request Meeting Link\n											 \n\n										Request Meeting Link									\n										×\n								\n									Close
URL:https://colab.plymouthcreate.net/event/reading-about-white-supremacy-culture/
LOCATION:Virtual
CATEGORIES:Discussion,Public,Race & Anti-racism
END:VEVENT
END:VCALENDAR