BEGIN:VCALENDAR
VERSION:2.0
PRODID:-//The Open Learning &amp; Teaching Collaborative - ECPv6.15.20//NONSGML v1.0//EN
CALSCALE:GREGORIAN
METHOD:PUBLISH
X-ORIGINAL-URL:https://colab.plymouthcreate.net
X-WR-CALDESC:Events for The Open Learning &amp; Teaching Collaborative
REFRESH-INTERVAL;VALUE=DURATION:PT1H
X-Robots-Tag:noindex
X-PUBLISHED-TTL:PT1H
BEGIN:VTIMEZONE
TZID:America/New_York
BEGIN:DAYLIGHT
TZOFFSETFROM:-0500
TZOFFSETTO:-0400
TZNAME:EDT
DTSTART:20200308T070000
END:DAYLIGHT
BEGIN:STANDARD
TZOFFSETFROM:-0400
TZOFFSETTO:-0500
TZNAME:EST
DTSTART:20201101T060000
END:STANDARD
BEGIN:DAYLIGHT
TZOFFSETFROM:-0500
TZOFFSETTO:-0400
TZNAME:EDT
DTSTART:20210314T070000
END:DAYLIGHT
BEGIN:STANDARD
TZOFFSETFROM:-0400
TZOFFSETTO:-0500
TZNAME:EST
DTSTART:20211107T060000
END:STANDARD
BEGIN:DAYLIGHT
TZOFFSETFROM:-0500
TZOFFSETTO:-0400
TZNAME:EDT
DTSTART:20220313T070000
END:DAYLIGHT
BEGIN:STANDARD
TZOFFSETFROM:-0400
TZOFFSETTO:-0500
TZNAME:EST
DTSTART:20221106T060000
END:STANDARD
END:VTIMEZONE
BEGIN:VEVENT
DTSTART;TZID=America/New_York:20210430T160000
DTEND;TZID=America/New_York:20210430T173000
DTSTAMP:20260423T170028
CREATED:20210210T221941Z
LAST-MODIFIED:20210223T202712Z
UID:10000258-1619798400-1619803800@colab.plymouthcreate.net
SUMMARY:Keynote: "On Grief and Loss: Building a Post-Pandemic Future for Higher Ed without Losing Sight of Our Students and Ourselves"
DESCRIPTION:The keynote will begin at 4pm\, will last 45 minutes\, and is open to the public. It will be followed by a private Q&A session for PSU faculty and staff to process the talk as a community\, beginning at roughly 4:45pm in a separate Zoom room. PSU folks who wish to attend both the keynote and the follow-up Q&A need to register for each session separately below! Description: As we pass the tragic milestone of a year since the beginning of the COVID-19 pandemic\, higher ed is in a collective mourning process that compounds personal loss with grief for the ways we used to teach\, to learn together\, to see each other in the halls without masks\, and to advance our shared educational mission. This talk will be a reflection on coming to terms with this grieving for the higher ed that was\, thinking through what we’ve learned about students and teaching from this experience\, and building hope for what the future of higher ed might look like. Bio: Josh Eyler is Director of Faculty Development and Director of the Thinkforward Quality Enhancement Plan at the University of Mississippi\, where he is also on the faculty in the Department of Writing and Rhetoric. He previously worked on teaching and learning initiatives at Columbus State University\, George Mason University\, and Rice University. His research interests include the biological basis of learning\, evidence-based pedagogy\, and disability studies\, and he is the author ofHow Humans Learn: The Science and Stories behind Effective College Teaching (WVU\, 2018). Josh is a frequent speaker at colleges and universities across the country\, and he often consults with centers for teaching and learning on a range of issues related to programming and research. Sponsored by the CoLab and the Cluster Pedagogy Learning Community. \n			\n						Register for Keynote (Open to the Public)\n					\n									\n												Register for Post-Keynote Q&A (Open to PSU)\n											 \n\n										Register for Post-Keynote Q&A (Open to PSU)									\n										× \n\n\nName*\n                                                    \n                                                    First\n                                                    \n                                                    Last\n                        \nEmail*Please enter your PSU email address. NOTE: This event is restricted to PSU community members.\n                            \n                        \nCAPTCHA\nPhoneThis field is for validation purposes and should be left unchanged.\n\n          \n            \n            \n            \n            \n            \n            \n            \n                        \n                \n								\n									Close
URL:https://colab.plymouthcreate.net/event/keynote-on-grief-and-loss-building-a-post-pandemic-future-for-higher-ed-without-losing-sight-of-our-students-and-ourselves/
LOCATION:Virtual
CATEGORIES:CPLC,Public
END:VEVENT
END:VCALENDAR