BEGIN:VCALENDAR
VERSION:2.0
PRODID:-//The Open Learning &amp; Teaching Collaborative - ECPv6.15.20//NONSGML v1.0//EN
CALSCALE:GREGORIAN
METHOD:PUBLISH
X-ORIGINAL-URL:https://colab.plymouthcreate.net
X-WR-CALDESC:Events for The Open Learning &amp; Teaching Collaborative
REFRESH-INTERVAL;VALUE=DURATION:PT1H
X-Robots-Tag:noindex
X-PUBLISHED-TTL:PT1H
BEGIN:VTIMEZONE
TZID:America/New_York
BEGIN:DAYLIGHT
TZOFFSETFROM:-0500
TZOFFSETTO:-0400
TZNAME:EDT
DTSTART:20210314T070000
END:DAYLIGHT
BEGIN:STANDARD
TZOFFSETFROM:-0400
TZOFFSETTO:-0500
TZNAME:EST
DTSTART:20211107T060000
END:STANDARD
BEGIN:DAYLIGHT
TZOFFSETFROM:-0500
TZOFFSETTO:-0400
TZNAME:EDT
DTSTART:20220313T070000
END:DAYLIGHT
BEGIN:STANDARD
TZOFFSETFROM:-0400
TZOFFSETTO:-0500
TZNAME:EST
DTSTART:20221106T060000
END:STANDARD
BEGIN:DAYLIGHT
TZOFFSETFROM:-0500
TZOFFSETTO:-0400
TZNAME:EDT
DTSTART:20230312T070000
END:DAYLIGHT
BEGIN:STANDARD
TZOFFSETFROM:-0400
TZOFFSETTO:-0500
TZNAME:EST
DTSTART:20231105T060000
END:STANDARD
END:VTIMEZONE
BEGIN:VEVENT
DTSTART;TZID=America/New_York:20221013T160000
DTEND;TZID=America/New_York:20221013T173000
DTSTAMP:20260415T220029
CREATED:20220826T184156Z
LAST-MODIFIED:20220826T184252Z
UID:10000217-1665676800-1665682200@colab.plymouthcreate.net
SUMMARY:Trevor Durbin on "Teaching to Cultivate a Better Anthropocene: From Failure to Nurture"
DESCRIPTION:EVENT RESCHEDULED\n			\n						This event has been rescheduled to be part of SPIN 2025 teacher-to-teacher programming! Click to check the SPIN website for more info.\n			\n						\n									×\n							\n			\n		\n						\n				\n							\n						\n				\n									 \n\nJason Charrette\, who became a part of Plymouth State University in 2022\, has over a decade of experience integrating games and simulations into political science education. He blends insights from game design with the science of active learning techniques to create engaging and innovative experiences for his students. \n\nJoin Dr. Jason Charrette for a hands-on workshop to explore the use of game-based learning and role-play simulations to promote active learning\, problem-solving\, real-world application\, collaboration and communication\, and engagement and presence in the classroom. Workshop activities will include:\n\nImmersive Experience: Participants will actively engage in a role-play simulation\, experiencing firsthand the benefits of this approach for student learning.\n\nDesign Your Own Simulation: Drawing upon the workshop’s insights and participants’ disciplinary expertise\, participants will design a role-play simulation for their own class(es). \n\nWe have limited space\, so register today!Oops! We could not locate your form.
URL:https://colab.plymouthcreate.net/event/trevor-durbin-on-teaching-to-cultivate-a-better-anthropocene-from-failure-to-nurture/
LOCATION:Virtual
CATEGORIES:Climate Studies,Interdisciplinarity,Keynote,Pedagogy,Teaching
END:VEVENT
END:VCALENDAR