BEGIN:VCALENDAR
VERSION:2.0
PRODID:-//The Open Learning &amp; Teaching Collaborative - ECPv6.15.20//NONSGML v1.0//EN
CALSCALE:GREGORIAN
METHOD:PUBLISH
X-ORIGINAL-URL:https://colab.plymouthcreate.net
X-WR-CALDESC:Events for The Open Learning &amp; Teaching Collaborative
REFRESH-INTERVAL;VALUE=DURATION:PT1H
X-Robots-Tag:noindex
X-PUBLISHED-TTL:PT1H
BEGIN:VTIMEZONE
TZID:America/New_York
BEGIN:DAYLIGHT
TZOFFSETFROM:-0500
TZOFFSETTO:-0400
TZNAME:EDT
DTSTART:20210314T070000
END:DAYLIGHT
BEGIN:STANDARD
TZOFFSETFROM:-0400
TZOFFSETTO:-0500
TZNAME:EST
DTSTART:20211107T060000
END:STANDARD
BEGIN:DAYLIGHT
TZOFFSETFROM:-0500
TZOFFSETTO:-0400
TZNAME:EDT
DTSTART:20220313T070000
END:DAYLIGHT
BEGIN:STANDARD
TZOFFSETFROM:-0400
TZOFFSETTO:-0500
TZNAME:EST
DTSTART:20221106T060000
END:STANDARD
BEGIN:DAYLIGHT
TZOFFSETFROM:-0500
TZOFFSETTO:-0400
TZNAME:EDT
DTSTART:20230312T070000
END:DAYLIGHT
BEGIN:STANDARD
TZOFFSETFROM:-0400
TZOFFSETTO:-0500
TZNAME:EST
DTSTART:20231105T060000
END:STANDARD
END:VTIMEZONE
BEGIN:VEVENT
DTSTART;TZID=America/New_York:20220401T160000
DTEND;TZID=America/New_York:20220401T180000
DTSTAMP:20260420T193942
CREATED:20211115T185307Z
LAST-MODIFIED:20220322T211103Z
UID:10000307-1648828800-1648836000@colab.plymouthcreate.net
SUMMARY:Keynote: Kathleen Fitzpatrick on "Generous Thinking: A Radical Approach to Saving the University"
DESCRIPTION:Higher education occupies a difficult place in twenty-first-century American culture. Universities―the institutions that bear so much responsibility for the future health of our nation―are at odds with the very publics they are intended to serve. It is imperative that we re-center the mission of the university to rebuild that lost trust. Critical thinking―the heart of what academics do―can today often negate\, refuse\, and reject new ideas. In an age characterized by rampant anti-intellectualism\, Generous Thinking charges the academy with thinking constructively rather than competitively\, buil​ding new ideas rather than tearing old ones down. We need to rethink how we teach the humanities and to refocus our attention on the very human ends―the desire for community and connection―that the humanities can best serve.\nA virtual event!\n \n			\n						Register Now
URL:https://colab.plymouthcreate.net/event/fitzpatrick/
LOCATION:Virtual
CATEGORIES:CPLC,Keynote
END:VEVENT
END:VCALENDAR