BEGIN:VCALENDAR
VERSION:2.0
PRODID:-//The Open Learning &amp; Teaching Collaborative - ECPv6.15.20//NONSGML v1.0//EN
CALSCALE:GREGORIAN
METHOD:PUBLISH
X-WR-CALNAME:The Open Learning &amp; Teaching Collaborative
X-ORIGINAL-URL:https://colab.plymouthcreate.net
X-WR-CALDESC:Events for The Open Learning &amp; Teaching Collaborative
REFRESH-INTERVAL;VALUE=DURATION:PT1H
X-Robots-Tag:noindex
X-PUBLISHED-TTL:PT1H
BEGIN:VTIMEZONE
TZID:America/New_York
BEGIN:DAYLIGHT
TZOFFSETFROM:-0500
TZOFFSETTO:-0400
TZNAME:EDT
DTSTART:20220313T070000
END:DAYLIGHT
BEGIN:STANDARD
TZOFFSETFROM:-0400
TZOFFSETTO:-0500
TZNAME:EST
DTSTART:20221106T060000
END:STANDARD
BEGIN:DAYLIGHT
TZOFFSETFROM:-0500
TZOFFSETTO:-0400
TZNAME:EDT
DTSTART:20230312T070000
END:DAYLIGHT
BEGIN:STANDARD
TZOFFSETFROM:-0400
TZOFFSETTO:-0500
TZNAME:EST
DTSTART:20231105T060000
END:STANDARD
BEGIN:DAYLIGHT
TZOFFSETFROM:-0500
TZOFFSETTO:-0400
TZNAME:EDT
DTSTART:20240310T070000
END:DAYLIGHT
BEGIN:STANDARD
TZOFFSETFROM:-0400
TZOFFSETTO:-0500
TZNAME:EST
DTSTART:20241103T060000
END:STANDARD
END:VTIMEZONE
BEGIN:VEVENT
DTSTART;TZID=America/New_York:20230414T100000
DTEND;TZID=America/New_York:20230414T110000
DTSTAMP:20260420T151946
CREATED:20230302T164220Z
LAST-MODIFIED:20230302T164224Z
UID:10000387-1681466400-1681470000@colab.plymouthcreate.net
SUMMARY:HoMEcoming: What is the Habits of Mind Experience?
DESCRIPTION:We are at an exciting moment in our journey with General Education at PSU! We have a new name and for the first time this year we have faculty focusing their teaching\, scholarship\, and service to supporting the Habits of Mind Experience (HoME). HoME is much bigger than a couple of courses or a small group of faculty\, it includes anyone that teaches or supports HoME courses including Connections\, Directions\, TWP\, and INCAP. Come HoME to talk about strengthening and building our community to support students in these various courses. Join the Habits of Mind Experience (HoME) faculty and CoLab staff for this session to learn\, connect\, and share.Oops! We could not locate your form.
URL:https://colab.plymouthcreate.net/event/homecoming-what-is-the-habits-of-mind-experience/
LOCATION:CoLab (Lamson Library 003)
CATEGORIES:General Education @ PSU
END:VEVENT
END:VCALENDAR