BEGIN:VCALENDAR
VERSION:2.0
PRODID:-//The Open Learning &amp; Teaching Collaborative - ECPv6.15.20//NONSGML v1.0//EN
CALSCALE:GREGORIAN
METHOD:PUBLISH
X-ORIGINAL-URL:https://colab.plymouthcreate.net
X-WR-CALDESC:Events for The Open Learning &amp; Teaching Collaborative
REFRESH-INTERVAL;VALUE=DURATION:PT1H
X-Robots-Tag:noindex
X-PUBLISHED-TTL:PT1H
BEGIN:VTIMEZONE
TZID:America/New_York
BEGIN:DAYLIGHT
TZOFFSETFROM:-0500
TZOFFSETTO:-0400
TZNAME:EDT
DTSTART:20200308T070000
END:DAYLIGHT
BEGIN:STANDARD
TZOFFSETFROM:-0400
TZOFFSETTO:-0500
TZNAME:EST
DTSTART:20201101T060000
END:STANDARD
BEGIN:DAYLIGHT
TZOFFSETFROM:-0500
TZOFFSETTO:-0400
TZNAME:EDT
DTSTART:20210314T070000
END:DAYLIGHT
BEGIN:STANDARD
TZOFFSETFROM:-0400
TZOFFSETTO:-0500
TZNAME:EST
DTSTART:20211107T060000
END:STANDARD
BEGIN:DAYLIGHT
TZOFFSETFROM:-0500
TZOFFSETTO:-0400
TZNAME:EDT
DTSTART:20220313T070000
END:DAYLIGHT
BEGIN:STANDARD
TZOFFSETFROM:-0400
TZOFFSETTO:-0500
TZNAME:EST
DTSTART:20221106T060000
END:STANDARD
END:VTIMEZONE
BEGIN:VEVENT
DTSTART;TZID=America/New_York:20210308T130000
DTEND;TZID=America/New_York:20210308T140000
DTSTAMP:20260420T125338
CREATED:20210223T200417Z
LAST-MODIFIED:20210224T142650Z
UID:10000120-1615208400-1615212000@colab.plymouthcreate.net
SUMMARY:Tips and Strategies for How to Get Your Student Loans Forgiven through the Student Loan Forgiveness Programs
DESCRIPTION:This session is an opportunity to talk about Loan Forgiveness Programs and for people to learn if they qualify and how to navigate the program. Professor Suzanne Gaulocher will share her experience and lessons learned and can help support you in applying for a program. She can help with questions you may have\, such as: Do I qualify for this program? Is it worth it? How can I best navigate the difficulties of this program? How do I stay on top of it? What is the best repayment plan? \n\nOpen to all PSU students and all USNH faculty and staff! \n\n 								\n				\n				\n				\n					\n		\n			\n									\n\n						\n						\n							Request Meeting Link\n						\n\n						\n						\n						\n					\n							\n\n			\n				\n											\n															\n									Request Meeting Link								\n																						\n									×\n								\n													\n										\n													Oops! We could not locate your form. \n											\n											\n							\n								Close
URL:https://colab.plymouthcreate.net/event/tips-and-strategies-for-how-to-get-your-student-loans-forgiven-through-the-student-loan-forgiveness-programs/
LOCATION:Virtual
CATEGORIES:Financial Aid
END:VEVENT
END:VCALENDAR