BEGIN:VCALENDAR
VERSION:2.0
PRODID:-//The Open Learning &amp; Teaching Collaborative - ECPv6.15.20//NONSGML v1.0//EN
CALSCALE:GREGORIAN
METHOD:PUBLISH
X-WR-CALNAME:The Open Learning &amp; Teaching Collaborative
X-ORIGINAL-URL:https://colab.plymouthcreate.net
X-WR-CALDESC:Events for The Open Learning &amp; Teaching Collaborative
REFRESH-INTERVAL;VALUE=DURATION:PT1H
X-Robots-Tag:noindex
X-PUBLISHED-TTL:PT1H
BEGIN:VTIMEZONE
TZID:America/New_York
BEGIN:DAYLIGHT
TZOFFSETFROM:-0500
TZOFFSETTO:-0400
TZNAME:EDT
DTSTART:20210314T070000
END:DAYLIGHT
BEGIN:STANDARD
TZOFFSETFROM:-0400
TZOFFSETTO:-0500
TZNAME:EST
DTSTART:20211107T060000
END:STANDARD
BEGIN:DAYLIGHT
TZOFFSETFROM:-0500
TZOFFSETTO:-0400
TZNAME:EDT
DTSTART:20220313T070000
END:DAYLIGHT
BEGIN:STANDARD
TZOFFSETFROM:-0400
TZOFFSETTO:-0500
TZNAME:EST
DTSTART:20221106T060000
END:STANDARD
BEGIN:DAYLIGHT
TZOFFSETFROM:-0500
TZOFFSETTO:-0400
TZNAME:EDT
DTSTART:20230312T070000
END:DAYLIGHT
BEGIN:STANDARD
TZOFFSETFROM:-0400
TZOFFSETTO:-0500
TZNAME:EST
DTSTART:20231105T060000
END:STANDARD
END:VTIMEZONE
BEGIN:VEVENT
DTSTART;TZID=America/New_York:20220404T080000
DTEND;TZID=America/New_York:20220415T170000
DTSTAMP:20260423T152156
CREATED:20211215T145037Z
LAST-MODIFIED:20211215T145136Z
UID:10000165-1649059200-1650042000@colab.plymouthcreate.net
SUMMARY:Care and Equity: Centering Humans (Design Forward Module)
DESCRIPTION:This module is for those who want to think more deeply about how the spaces they design for education can best support learners and promote justice and equity. Topics may include the decolonization of the classroom\, understanding student agency\, fostering co-constructive mindsets for course design\, and exploring alternative assessment techniques. \nIt is part of the larger Design Forward program offered by the CoLab; participation is by application and all participants must also register for and attend the Design Forward Orientation module. A limited number of stipends are available for those who complete both modules. \nDetails about Design Forward\, the spring 2022 modules\, and the stipend application form are here. \nThe format for this program is asynchronous and online. Participants will receive details about how to access and participate in the program after they have applied and are accepted.  \n  \n 
URL:https://colab.plymouthcreate.net/event/care-and-equity-s22/
LOCATION:Virtual
CATEGORIES:Closed (PSU Only),Design Forward,Equity
ORGANIZER;CN="Martha Burtis":MAILTO:mfburtis@plymouth.edu
END:VEVENT
BEGIN:VEVENT
DTSTART;TZID=America/New_York:20220407T120000
DTEND;TZID=America/New_York:20220407T124500
DTSTAMP:20260423T152156
CREATED:20220330T170822Z
LAST-MODIFIED:20220330T171234Z
UID:10000196-1649332800-1649335500@colab.plymouthcreate.net
SUMMARY:A Conversation about Care & Equity in Our Teaching
DESCRIPTION:Do you care about care and equity but struggle to figure out what they should look like in your actual courses? Join the CoLab’s associate director\, Martha Burtis\, for a conversation with Jesse Stommel\, Higher Education Pedagogy Fellow at The Hope Center for College\, Community\, and Justice\, and faculty member in the Writing Program at University of Denver. Jesse and Martha will try to dig more deeply into these concepts tackling questions such as “What do we do when we fell ‘cared-out’? and “How do we build an equitable environment when students’ needs are so diverse?” \nOops! We could not locate your form.
URL:https://colab.plymouthcreate.net/event/a-conversation-about-care-equity-in-our-teaching/
LOCATION:Virtual
CATEGORIES:Closed (PSU Only),Design Forward,Equity
ORGANIZER;CN="Martha Burtis":MAILTO:mfburtis@plymouth.edu
END:VEVENT
END:VCALENDAR