BEGIN:VCALENDAR
VERSION:2.0
PRODID:-//The Open Learning &amp; Teaching Collaborative - ECPv6.15.20//NONSGML v1.0//EN
CALSCALE:GREGORIAN
METHOD:PUBLISH
X-WR-CALNAME:The Open Learning &amp; Teaching Collaborative
X-ORIGINAL-URL:https://colab.plymouthcreate.net
X-WR-CALDESC:Events for The Open Learning &amp; Teaching Collaborative
REFRESH-INTERVAL;VALUE=DURATION:PT1H
X-Robots-Tag:noindex
X-PUBLISHED-TTL:PT1H
BEGIN:VTIMEZONE
TZID:America/New_York
BEGIN:DAYLIGHT
TZOFFSETFROM:-0500
TZOFFSETTO:-0400
TZNAME:EDT
DTSTART:20210314T070000
END:DAYLIGHT
BEGIN:STANDARD
TZOFFSETFROM:-0400
TZOFFSETTO:-0500
TZNAME:EST
DTSTART:20211107T060000
END:STANDARD
BEGIN:DAYLIGHT
TZOFFSETFROM:-0500
TZOFFSETTO:-0400
TZNAME:EDT
DTSTART:20220313T070000
END:DAYLIGHT
BEGIN:STANDARD
TZOFFSETFROM:-0400
TZOFFSETTO:-0500
TZNAME:EST
DTSTART:20221106T060000
END:STANDARD
BEGIN:DAYLIGHT
TZOFFSETFROM:-0500
TZOFFSETTO:-0400
TZNAME:EDT
DTSTART:20230312T070000
END:DAYLIGHT
BEGIN:STANDARD
TZOFFSETFROM:-0400
TZOFFSETTO:-0500
TZNAME:EST
DTSTART:20231105T060000
END:STANDARD
END:VTIMEZONE
BEGIN:VEVENT
DTSTART;TZID=America/New_York:20220406T100000
DTEND;TZID=America/New_York:20220406T120000
DTSTAMP:20260423T104540
CREATED:20220124T181727Z
LAST-MODIFIED:20220124T181727Z
UID:10000317-1649239200-1649246400@colab.plymouthcreate.net
SUMMARY:Drop-In Accessibility Help
DESCRIPTION:Join CoLab Affiliate Hannah Davidson who can help you with anything you need around the accessibility of your courses and learning materials (captioning videos! making your handouts more accessible for all learners! how to support students with learning disabilities! more! whatever you need!). Drop in for a coffee and some support. No registration needed for this event.
URL:https://colab.plymouthcreate.net/event/drop-in-accessibility-help-10/
LOCATION:CoLab (Lamson Library 003)
CATEGORIES:Accessibility,Drop-in
END:VEVENT
BEGIN:VEVENT
DTSTART;TZID=America/New_York:20220413T100000
DTEND;TZID=America/New_York:20220413T120000
DTSTAMP:20260423T104540
CREATED:20220124T182119Z
LAST-MODIFIED:20220124T182119Z
UID:10000318-1649844000-1649851200@colab.plymouthcreate.net
SUMMARY:Drop-In Accessibility Help
DESCRIPTION:Join CoLab Affiliate Hannah Davidson who can help you with anything you need around the accessibility of your courses and learning materials (captioning videos! making your handouts more accessible for all learners! how to support students with learning disabilities! more! whatever you need!). Drop in for a coffee and some support. No registration needed for this event.
URL:https://colab.plymouthcreate.net/event/drop-in-accessibility-help-11/
LOCATION:CoLab (Lamson Library 003)
CATEGORIES:Accessibility,Drop-in
END:VEVENT
BEGIN:VEVENT
DTSTART;TZID=America/New_York:20220420T100000
DTEND;TZID=America/New_York:20220420T120000
DTSTAMP:20260423T104540
CREATED:20220124T182138Z
LAST-MODIFIED:20220124T182138Z
UID:10000319-1650448800-1650456000@colab.plymouthcreate.net
SUMMARY:Drop-In Accessibility Help
DESCRIPTION:Join CoLab Affiliate Hannah Davidson who can help you with anything you need around the accessibility of your courses and learning materials (captioning videos! making your handouts more accessible for all learners! how to support students with learning disabilities! more! whatever you need!). Drop in for a coffee and some support. No registration needed for this event.
URL:https://colab.plymouthcreate.net/event/drop-in-accessibility-help-12/
LOCATION:CoLab (Lamson Library 003)
CATEGORIES:Accessibility,Drop-in
END:VEVENT
BEGIN:VEVENT
DTSTART;TZID=America/New_York:20220427T100000
DTEND;TZID=America/New_York:20220427T120000
DTSTAMP:20260423T104540
CREATED:20220124T182210Z
LAST-MODIFIED:20220124T182210Z
UID:10000320-1651053600-1651060800@colab.plymouthcreate.net
SUMMARY:Drop-In Accessibility Help
DESCRIPTION:Join CoLab Affiliate Hannah Davidson who can help you with anything you need around the accessibility of your courses and learning materials (captioning videos! making your handouts more accessible for all learners! how to support students with learning disabilities! more! whatever you need!). Drop in for a coffee and some support. No registration needed for this event.
URL:https://colab.plymouthcreate.net/event/drop-in-accessibility-help-13/
LOCATION:CoLab (Lamson Library 003)
CATEGORIES:Accessibility,Drop-in
END:VEVENT
END:VCALENDAR