BEGIN:VCALENDAR
VERSION:2.0
PRODID:-//The Open Learning &amp; Teaching Collaborative - ECPv6.15.20//NONSGML v1.0//EN
CALSCALE:GREGORIAN
METHOD:PUBLISH
X-WR-CALNAME:The Open Learning &amp; Teaching Collaborative
X-ORIGINAL-URL:https://colab.plymouthcreate.net
X-WR-CALDESC:Events for The Open Learning &amp; Teaching Collaborative
REFRESH-INTERVAL;VALUE=DURATION:PT1H
X-Robots-Tag:noindex
X-PUBLISHED-TTL:PT1H
BEGIN:VTIMEZONE
TZID:America/New_York
BEGIN:DAYLIGHT
TZOFFSETFROM:-0500
TZOFFSETTO:-0400
TZNAME:EDT
DTSTART:20200308T070000
END:DAYLIGHT
BEGIN:STANDARD
TZOFFSETFROM:-0400
TZOFFSETTO:-0500
TZNAME:EST
DTSTART:20201101T060000
END:STANDARD
BEGIN:DAYLIGHT
TZOFFSETFROM:-0500
TZOFFSETTO:-0400
TZNAME:EDT
DTSTART:20210314T070000
END:DAYLIGHT
BEGIN:STANDARD
TZOFFSETFROM:-0400
TZOFFSETTO:-0500
TZNAME:EST
DTSTART:20211107T060000
END:STANDARD
BEGIN:DAYLIGHT
TZOFFSETFROM:-0500
TZOFFSETTO:-0400
TZNAME:EDT
DTSTART:20220313T070000
END:DAYLIGHT
BEGIN:STANDARD
TZOFFSETFROM:-0400
TZOFFSETTO:-0500
TZNAME:EST
DTSTART:20221106T060000
END:STANDARD
END:VTIMEZONE
BEGIN:VEVENT
DTSTART;TZID=America/New_York:20210408T153000
DTEND;TZID=America/New_York:20210408T170000
DTSTAMP:20260424T055142
CREATED:20210302T200425Z
LAST-MODIFIED:20210302T200425Z
UID:10000122-1617895800-1617901200@colab.plymouthcreate.net
SUMMARY:CoLab Weekly Happy Hour
DESCRIPTION:Join CoLab staff and your colleagues for our weekly happy hour. Come to talk about your teaching and learning questions\, concerns\, and triumphs\, or just to connect with like-minded friends over a virtual beverage. Drop-in whenever during 3:30-5:00 PM\, every Thursday until the end of the spring semester. We hope to see you!\n\nRequest Meeting Link\n \nRequest Meeting Link\n× \n\nRequest Zoom Link: CoLab Weekly Happy Hour\n\nName*\n\nFirst\n\nLast\nEmail*\n\nFrom your email address\, it looks like you may not be affiliated with Plymouth State University. Please tell us in a sentence or two about your interest in this program.*\nCAPTCHA\nCommentsThis field is for validation purposes and should be left unchanged.\n\n \n\n\n\n\n\n\n \n\n\n\nClose
URL:https://colab.plymouthcreate.net/event/colab-weekly-happy-hour-7/
LOCATION:Remote
CATEGORIES:Community,Drop-in
END:VEVENT
BEGIN:VEVENT
DTSTART;TZID=America/New_York:20210415T153000
DTEND;TZID=America/New_York:20210415T170000
DTSTAMP:20260424T055142
CREATED:20210302T200658Z
LAST-MODIFIED:20210302T200658Z
UID:10000124-1618500600-1618506000@colab.plymouthcreate.net
SUMMARY:CoLab Weekly Happy Hour
DESCRIPTION:Join CoLab staff and your colleagues for our weekly happy hour. Come to talk about your teaching and learning questions\, concerns\, and triumphs\, or just to connect with like-minded friends over a virtual beverage. Drop-in whenever during 3:30-5:00 PM\, every Thursday until the end of the spring semester. We hope to see you!\n\nRequest Meeting Link\n \nRequest Meeting Link\n× \n\nRequest Zoom Link: CoLab Weekly Happy Hour\n\nName*\n\nFirst\n\nLast\nEmail*\n\nFrom your email address\, it looks like you may not be affiliated with Plymouth State University. Please tell us in a sentence or two about your interest in this program.*\nCAPTCHA\nCommentsThis field is for validation purposes and should be left unchanged.\n\n \n\n\n\n\n\n\n \n\n\n\nClose
URL:https://colab.plymouthcreate.net/event/colab-weekly-happy-hour-8/
LOCATION:Remote
CATEGORIES:Community,Drop-in
END:VEVENT
BEGIN:VEVENT
DTSTART;TZID=America/New_York:20210422T153000
DTEND;TZID=America/New_York:20210422T170000
DTSTAMP:20260424T055142
CREATED:20210302T200743Z
LAST-MODIFIED:20210302T200743Z
UID:10000126-1619105400-1619110800@colab.plymouthcreate.net
SUMMARY:CoLab Weekly Happy Hour
DESCRIPTION:Join CoLab staff and your colleagues for our weekly happy hour. Come to talk about your teaching and learning questions\, concerns\, and triumphs\, or just to connect with like-minded friends over a virtual beverage. Drop-in whenever during 3:30-5:00 PM\, every Thursday until the end of the spring semester. We hope to see you!\n\nRequest Meeting Link\n \nRequest Meeting Link\n× \n\nRequest Zoom Link: CoLab Weekly Happy Hour\n\nName*\n\nFirst\n\nLast\nEmail*\n\nFrom your email address\, it looks like you may not be affiliated with Plymouth State University. Please tell us in a sentence or two about your interest in this program.*\nCAPTCHA\nCommentsThis field is for validation purposes and should be left unchanged.\n\n \n\n\n\n\n\n\n \n\n\n\nClose
URL:https://colab.plymouthcreate.net/event/colab-weekly-happy-hour-9/
LOCATION:Remote
CATEGORIES:Community,Drop-in
END:VEVENT
BEGIN:VEVENT
DTSTART;TZID=America/New_York:20210429T153000
DTEND;TZID=America/New_York:20210429T170000
DTSTAMP:20260424T055142
CREATED:20210302T200823Z
LAST-MODIFIED:20210302T200823Z
UID:10000128-1619710200-1619715600@colab.plymouthcreate.net
SUMMARY:CoLab Weekly Happy Hour
DESCRIPTION:Join CoLab staff and your colleagues for our weekly happy hour. Come to talk about your teaching and learning questions\, concerns\, and triumphs\, or just to connect with like-minded friends over a virtual beverage. Drop-in whenever during 3:30-5:00 PM\, every Thursday until the end of the spring semester. We hope to see you!\n\nRequest Meeting Link\n \nRequest Meeting Link\n× \n\nRequest Zoom Link: CoLab Weekly Happy Hour\n\nName*\n\nFirst\n\nLast\nEmail*\n\nFrom your email address\, it looks like you may not be affiliated with Plymouth State University. Please tell us in a sentence or two about your interest in this program.*\nCAPTCHA\nCommentsThis field is for validation purposes and should be left unchanged.\n\n \n\n\n\n\n\n\n \n\n\n\nClose
URL:https://colab.plymouthcreate.net/event/colab-weekly-happy-hour-10/
LOCATION:Remote
CATEGORIES:Community,Drop-in
END:VEVENT
END:VCALENDAR