BEGIN:VCALENDAR
VERSION:2.0
PRODID:-//The Open Learning &amp; Teaching Collaborative - ECPv6.15.20//NONSGML v1.0//EN
CALSCALE:GREGORIAN
METHOD:PUBLISH
X-WR-CALNAME:The Open Learning &amp; Teaching Collaborative
X-ORIGINAL-URL:https://colab.plymouthcreate.net
X-WR-CALDESC:Events for The Open Learning &amp; Teaching Collaborative
REFRESH-INTERVAL;VALUE=DURATION:PT1H
X-Robots-Tag:noindex
X-PUBLISHED-TTL:PT1H
BEGIN:VTIMEZONE
TZID:America/New_York
BEGIN:DAYLIGHT
TZOFFSETFROM:-0500
TZOFFSETTO:-0400
TZNAME:EDT
DTSTART:20200308T070000
END:DAYLIGHT
BEGIN:STANDARD
TZOFFSETFROM:-0400
TZOFFSETTO:-0500
TZNAME:EST
DTSTART:20201101T060000
END:STANDARD
BEGIN:DAYLIGHT
TZOFFSETFROM:-0500
TZOFFSETTO:-0400
TZNAME:EDT
DTSTART:20210314T070000
END:DAYLIGHT
BEGIN:STANDARD
TZOFFSETFROM:-0400
TZOFFSETTO:-0500
TZNAME:EST
DTSTART:20211107T060000
END:STANDARD
BEGIN:DAYLIGHT
TZOFFSETFROM:-0500
TZOFFSETTO:-0400
TZNAME:EDT
DTSTART:20220313T070000
END:DAYLIGHT
BEGIN:STANDARD
TZOFFSETFROM:-0400
TZOFFSETTO:-0500
TZNAME:EST
DTSTART:20221106T060000
END:STANDARD
END:VTIMEZONE
BEGIN:VEVENT
DTSTART;TZID=America/New_York:20210304T153000
DTEND;TZID=America/New_York:20210304T170000
DTSTAMP:20260424T072716
CREATED:20201218T215140Z
LAST-MODIFIED:20201218T215140Z
UID:10000240-1614871800-1614877200@colab.plymouthcreate.net
SUMMARY:CoLab Weekly Happy Hour
DESCRIPTION:Join CoLab staff and your colleagues for our weekly happy hour. Come to talk about your teaching and learning questions\, concerns\, and triumphs\, or just to connect with like-minded friends over a virtual beverage. Drop-in whenever during 3:30-5:00 PM\, every Thursday until the end of the spring semester. We hope to see you!\n\nRequest Meeting Link\n \nRequest Meeting Link\n× \n\nRequest Zoom Link: CoLab Weekly Happy Hour\n\nName*\n\nFirst\n\nLast\nEmail*\n\nFrom your email address\, it looks like you may not be affiliated with Plymouth State University. Please tell us in a sentence or two about your interest in this program.*\nCAPTCHA\nCommentsThis field is for validation purposes and should be left unchanged.\n\n \n\n\n\n\n\n\n \n\n\n\nClose
URL:https://colab.plymouthcreate.net/event/colab-weekly-happy-hour-5/
LOCATION:Remote
CATEGORIES:Community,Drop-in
END:VEVENT
BEGIN:VEVENT
DTSTART;TZID=America/New_York:20210311T153000
DTEND;TZID=America/New_York:20210311T170000
DTSTAMP:20260424T072716
CREATED:20201218T215210Z
LAST-MODIFIED:20201218T215210Z
UID:10000241-1615476600-1615482000@colab.plymouthcreate.net
SUMMARY:CoLab Weekly Happy Hour
DESCRIPTION:Join CoLab staff and your colleagues for our weekly happy hour. Come to talk about your teaching and learning questions\, concerns\, and triumphs\, or just to connect with like-minded friends over a virtual beverage. Drop-in whenever during 3:30-5:00 PM\, every Thursday until the end of the spring semester. We hope to see you!\n\nRequest Meeting Link\n \nRequest Meeting Link\n× \n\nRequest Zoom Link: CoLab Weekly Happy Hour\n\nName*\n\nFirst\n\nLast\nEmail*\n\nFrom your email address\, it looks like you may not be affiliated with Plymouth State University. Please tell us in a sentence or two about your interest in this program.*\nCAPTCHA\nCommentsThis field is for validation purposes and should be left unchanged.\n\n \n\n\n\n\n\n\n \n\n\n\nClose
URL:https://colab.plymouthcreate.net/event/colab-weekly-happy-hour-6/
LOCATION:Remote
CATEGORIES:Community,Drop-in
END:VEVENT
END:VCALENDAR