BEGIN:VCALENDAR
VERSION:2.0
PRODID:-//The Open Learning &amp; Teaching Collaborative - ECPv6.15.20//NONSGML v1.0//EN
CALSCALE:GREGORIAN
METHOD:PUBLISH
X-ORIGINAL-URL:https://colab.plymouthcreate.net
X-WR-CALDESC:Events for The Open Learning &amp; Teaching Collaborative
REFRESH-INTERVAL;VALUE=DURATION:PT1H
X-Robots-Tag:noindex
X-PUBLISHED-TTL:PT1H
BEGIN:VTIMEZONE
TZID:America/New_York
BEGIN:DAYLIGHT
TZOFFSETFROM:-0500
TZOFFSETTO:-0400
TZNAME:EDT
DTSTART:20200308T070000
END:DAYLIGHT
BEGIN:STANDARD
TZOFFSETFROM:-0400
TZOFFSETTO:-0500
TZNAME:EST
DTSTART:20201101T060000
END:STANDARD
BEGIN:DAYLIGHT
TZOFFSETFROM:-0500
TZOFFSETTO:-0400
TZNAME:EDT
DTSTART:20210314T070000
END:DAYLIGHT
BEGIN:STANDARD
TZOFFSETFROM:-0400
TZOFFSETTO:-0500
TZNAME:EST
DTSTART:20211107T060000
END:STANDARD
BEGIN:DAYLIGHT
TZOFFSETFROM:-0500
TZOFFSETTO:-0400
TZNAME:EDT
DTSTART:20220313T070000
END:DAYLIGHT
BEGIN:STANDARD
TZOFFSETFROM:-0400
TZOFFSETTO:-0500
TZNAME:EST
DTSTART:20221106T060000
END:STANDARD
END:VTIMEZONE
BEGIN:VEVENT
DTSTART;TZID=America/New_York:20211027T110000
DTEND;TZID=America/New_York:20211027T120000
DTSTAMP:20260424T131238
CREATED:20210830T165412Z
LAST-MODIFIED:20210915T174934Z
UID:10000143-1635332400-1635336000@colab.plymouthcreate.net
SUMMARY:The Labor of Teaching
DESCRIPTION:Join us for a discussion of the labor of teaching: what does the work of teaching look like\, how does it reflect our values\, and how does our labor translate into successful experiences for students? We’re interested in talking through these questions and identifying what we can do when the answers don’t necessarily align.\n\nRequest Meeting Link\n \nRequest Meeting Link\n× \n\n\nName*\n\nFirst\n\nLast\nEmail*\n\nFrom your email address\, it looks like you may not be affiliated with Plymouth State University. Please tell us in a sentence or two about your interest in this program.*\nCAPTCHA\nCommentsThis field is for validation purposes and should be left unchanged.\n\n \n\n\n\n\n\n\n \n\n\n\nClose
URL:https://colab.plymouthcreate.net/event/the-labor-of-teaching/
LOCATION:Hybrid (Lamson 003 and Zoom)
CATEGORIES:Discussion
ORGANIZER;CN="Martha Burtis":MAILTO:mfburtis@plymouth.edu
END:VEVENT
END:VCALENDAR