BEGIN:VCALENDAR
VERSION:2.0
PRODID:-//The Open Learning &amp; Teaching Collaborative - ECPv6.15.20//NONSGML v1.0//EN
CALSCALE:GREGORIAN
METHOD:PUBLISH
X-ORIGINAL-URL:https://colab.plymouthcreate.net
X-WR-CALDESC:Events for The Open Learning &amp; Teaching Collaborative
REFRESH-INTERVAL;VALUE=DURATION:PT1H
X-Robots-Tag:noindex
X-PUBLISHED-TTL:PT1H
BEGIN:VTIMEZONE
TZID:America/New_York
BEGIN:DAYLIGHT
TZOFFSETFROM:-0500
TZOFFSETTO:-0400
TZNAME:EDT
DTSTART:20210314T070000
END:DAYLIGHT
BEGIN:STANDARD
TZOFFSETFROM:-0400
TZOFFSETTO:-0500
TZNAME:EST
DTSTART:20211107T060000
END:STANDARD
BEGIN:DAYLIGHT
TZOFFSETFROM:-0500
TZOFFSETTO:-0400
TZNAME:EDT
DTSTART:20220313T070000
END:DAYLIGHT
BEGIN:STANDARD
TZOFFSETFROM:-0400
TZOFFSETTO:-0500
TZNAME:EST
DTSTART:20221106T060000
END:STANDARD
BEGIN:DAYLIGHT
TZOFFSETFROM:-0500
TZOFFSETTO:-0400
TZNAME:EDT
DTSTART:20230312T070000
END:DAYLIGHT
BEGIN:STANDARD
TZOFFSETFROM:-0400
TZOFFSETTO:-0500
TZNAME:EST
DTSTART:20231105T060000
END:STANDARD
END:VTIMEZONE
BEGIN:VEVENT
DTSTART;TZID=America/New_York:20221027T150000
DTEND;TZID=America/New_York:20221027T160000
DTSTAMP:20260423T105921
CREATED:20221006T132855Z
LAST-MODIFIED:20221006T164405Z
UID:10000365-1666882800-1666886400@colab.plymouthcreate.net
SUMMARY:Disability Studies Reading Group
DESCRIPTION:A reading group centered on disability justice and disability studies at PSU. Focuses on new readings each month chosen by the group. Open to students\, faculty\, and staff. The next meeting (zoom) is October 27th 3-4pm\, and we will be reading the first half of Normal Sucks\, by Jonathan Mooney (if you would like to borrow a copy of the book please email Bryan Mascio). Please contact Nic Helms and Bryan Mascio with any questions. (nrhelms@plymouth.edu\, bryan.mascio@plymouth.edu) \nOops! We could not locate your form.
URL:https://colab.plymouthcreate.net/event/disability-studies-reading-group-2/
LOCATION:Virtual
CATEGORIES:Accessibility,Closed (PSU Only),Community,Disability,Diversity,Inclusion,Mental Health
END:VEVENT
END:VCALENDAR