BEGIN:VCALENDAR
VERSION:2.0
PRODID:-//The Open Learning &amp; Teaching Collaborative - ECPv6.15.20//NONSGML v1.0//EN
CALSCALE:GREGORIAN
METHOD:PUBLISH
X-WR-CALNAME:The Open Learning &amp; Teaching Collaborative
X-ORIGINAL-URL:https://colab.plymouthcreate.net
X-WR-CALDESC:Events for The Open Learning &amp; Teaching Collaborative
REFRESH-INTERVAL;VALUE=DURATION:PT1H
X-Robots-Tag:noindex
X-PUBLISHED-TTL:PT1H
BEGIN:VTIMEZONE
TZID:America/New_York
BEGIN:DAYLIGHT
TZOFFSETFROM:-0500
TZOFFSETTO:-0400
TZNAME:EDT
DTSTART:20210314T070000
END:DAYLIGHT
BEGIN:STANDARD
TZOFFSETFROM:-0400
TZOFFSETTO:-0500
TZNAME:EST
DTSTART:20211107T060000
END:STANDARD
BEGIN:DAYLIGHT
TZOFFSETFROM:-0500
TZOFFSETTO:-0400
TZNAME:EDT
DTSTART:20220313T070000
END:DAYLIGHT
BEGIN:STANDARD
TZOFFSETFROM:-0400
TZOFFSETTO:-0500
TZNAME:EST
DTSTART:20221106T060000
END:STANDARD
BEGIN:DAYLIGHT
TZOFFSETFROM:-0500
TZOFFSETTO:-0400
TZNAME:EDT
DTSTART:20230312T070000
END:DAYLIGHT
BEGIN:STANDARD
TZOFFSETFROM:-0400
TZOFFSETTO:-0500
TZNAME:EST
DTSTART:20231105T060000
END:STANDARD
END:VTIMEZONE
BEGIN:VEVENT
DTSTART;TZID=America/New_York:20220926T080000
DTEND;TZID=America/New_York:20221007T170000
DTSTAMP:20260424T223646
CREATED:20211215T144739Z
LAST-MODIFIED:20220713T152412Z
UID:10000164-1664179200-1665162000@colab.plymouthcreate.net
SUMMARY:Introduction to Pedagogy (Design Forward Module)
DESCRIPTION:This module is designed for faculty who are newer to teaching and would like the opportunity to think more about pedagogy in a supported\, collegial environment. It is part of the larger Design Forward program offered by the CoLab; participation is by application and all participants must also register for and attend the Design Forward Orientation module. A limited number of stipends are available. \nThe format for this program is asynchronous and online. Participants will receive details about how to access and participate in the program after they have applied and are accepted.  \n 
URL:https://colab.plymouthcreate.net/event/introduction-to-pedagogy-f22/
LOCATION:Virtual
CATEGORIES:Closed (PSU Only),Design Forward
ORGANIZER;CN="Martha Burtis":MAILTO:mfburtis@plymouth.edu
END:VEVENT
BEGIN:VEVENT
DTSTART;TZID=America/New_York:20221031T080000
DTEND;TZID=America/New_York:20221111T170000
DTSTAMP:20260424T223646
CREATED:20220525T150158Z
LAST-MODIFIED:20220525T183513Z
UID:10000342-1667203200-1668186000@colab.plymouthcreate.net
SUMMARY:Formats & Modalities (Design Forward Module)
DESCRIPTION:This module is for faculty who are exploring a change of course modality (switching between F2F\, hybrid\, online asynch\, online synch\, hyflex\, etc.). We will talk about the experiences and affordances of different formats and how to create courses that respect these differences. Throughout\, we will make sure our design and preparation reflect our own personal teaching and design philosophies. It is part of the larger Design Forward program offered by the CoLab; participation is by application and all participants must also register for and attend the Design Forward Orientation module. A limited number of stipends are available. \nThe format for this program is asynchronous and online. Participants will receive details about how to access and participate in the program after they have applied and are accepted.  \n 
URL:https://colab.plymouthcreate.net/event/formats-modalities-f22/
LOCATION:Virtual
CATEGORIES:Closed (PSU Only),Design Forward
ORGANIZER;CN="Martha Burtis":MAILTO:mfburtis@plymouth.edu
END:VEVENT
END:VCALENDAR