BEGIN:VCALENDAR
VERSION:2.0
PRODID:-//The Open Learning &amp; Teaching Collaborative - ECPv6.15.20//NONSGML v1.0//EN
CALSCALE:GREGORIAN
METHOD:PUBLISH
X-ORIGINAL-URL:https://colab.plymouthcreate.net
X-WR-CALDESC:Events for The Open Learning &amp; Teaching Collaborative
REFRESH-INTERVAL;VALUE=DURATION:PT1H
X-Robots-Tag:noindex
X-PUBLISHED-TTL:PT1H
BEGIN:VTIMEZONE
TZID:America/New_York
BEGIN:DAYLIGHT
TZOFFSETFROM:-0500
TZOFFSETTO:-0400
TZNAME:EDT
DTSTART:20200308T070000
END:DAYLIGHT
BEGIN:STANDARD
TZOFFSETFROM:-0400
TZOFFSETTO:-0500
TZNAME:EST
DTSTART:20201101T060000
END:STANDARD
BEGIN:DAYLIGHT
TZOFFSETFROM:-0500
TZOFFSETTO:-0400
TZNAME:EDT
DTSTART:20210314T070000
END:DAYLIGHT
BEGIN:STANDARD
TZOFFSETFROM:-0400
TZOFFSETTO:-0500
TZNAME:EST
DTSTART:20211107T060000
END:STANDARD
BEGIN:DAYLIGHT
TZOFFSETFROM:-0500
TZOFFSETTO:-0400
TZNAME:EDT
DTSTART:20220313T070000
END:DAYLIGHT
BEGIN:STANDARD
TZOFFSETFROM:-0400
TZOFFSETTO:-0500
TZNAME:EST
DTSTART:20221106T060000
END:STANDARD
END:VTIMEZONE
BEGIN:VEVENT
DTSTART;TZID=America/New_York:20210908T160000
DTEND;TZID=America/New_York:20210908T170000
DTSTAMP:20260425T085657
CREATED:20210810T211843Z
LAST-MODIFIED:20210817T211109Z
UID:10000283-1631116800-1631120400@colab.plymouthcreate.net
SUMMARY:CoLab Virtual Open House to Welcome New Faculty
DESCRIPTION:Join the staff and faculty of the Open Learning & Teaching Collaborative in welcoming new members of the PSU faculty. This is a virtual event! BYOB and cookies and come meet our new faculty members! \n\n\n\n\n\n\n\n\n  \n		\n									\n												Request Meeting Link\n											\n																	\n										Request Meeting Link									\n										×\n                            Request video conference link for New Faculty Open House.\n                        \n                        Name*\n                                                    \n                                                    First\n                                                    \n                                                    Last\n                        Email*Please enter your PSU email address. NOTE: This event is restricted to PSU community members. \n                            \n                        CAPTCHANameThis field is for validation purposes and should be left unchanged.\n          \n            \n            \n            \n            \n            \n            \n            \n                        \n                \n								\n									Close
URL:https://colab.plymouthcreate.net/event/new-fac-open-house/
LOCATION:Virtual
CATEGORIES:Community
END:VEVENT
END:VCALENDAR