BEGIN:VCALENDAR
VERSION:2.0
PRODID:-//The Open Learning &amp; Teaching Collaborative - ECPv6.15.20//NONSGML v1.0//EN
CALSCALE:GREGORIAN
METHOD:PUBLISH
X-WR-CALNAME:The Open Learning &amp; Teaching Collaborative
X-ORIGINAL-URL:https://colab.plymouthcreate.net
X-WR-CALDESC:Events for The Open Learning &amp; Teaching Collaborative
REFRESH-INTERVAL;VALUE=DURATION:PT1H
X-Robots-Tag:noindex
X-PUBLISHED-TTL:PT1H
BEGIN:VTIMEZONE
TZID:America/New_York
BEGIN:DAYLIGHT
TZOFFSETFROM:-0500
TZOFFSETTO:-0400
TZNAME:EDT
DTSTART:20200308T070000
END:DAYLIGHT
BEGIN:STANDARD
TZOFFSETFROM:-0400
TZOFFSETTO:-0500
TZNAME:EST
DTSTART:20201101T060000
END:STANDARD
BEGIN:DAYLIGHT
TZOFFSETFROM:-0500
TZOFFSETTO:-0400
TZNAME:EDT
DTSTART:20210314T070000
END:DAYLIGHT
BEGIN:STANDARD
TZOFFSETFROM:-0400
TZOFFSETTO:-0500
TZNAME:EST
DTSTART:20211107T060000
END:STANDARD
BEGIN:DAYLIGHT
TZOFFSETFROM:-0500
TZOFFSETTO:-0400
TZNAME:EDT
DTSTART:20220313T070000
END:DAYLIGHT
BEGIN:STANDARD
TZOFFSETFROM:-0400
TZOFFSETTO:-0500
TZNAME:EST
DTSTART:20221106T060000
END:STANDARD
END:VTIMEZONE
BEGIN:VEVENT
DTSTART;TZID=America/New_York:20210304T150000
DTEND;TZID=America/New_York:20210304T163000
DTSTAMP:20260424T102531
CREATED:20210201T210209Z
LAST-MODIFIED:20210201T210226Z
UID:10000249-1614870000-1614875400@colab.plymouthcreate.net
SUMMARY:NH Open Ed Public Consortium Event
DESCRIPTION:Join colleagues from across USNH and CCSNH to discuss the OER that we are using across the state to help reduce the overall cost of college for our students and their families. Meet faculty in your discipline and learn about what open resources they are using and network in order to share tips and materials. Optional half-hour from 4-4:30 to ask expert librarians\, designers\, and faculty development specialists all your tech and OER-related questions. An uplifting\, collaborative event for all who care about college affordability and working together to improve higher education in New Hampshire. \n									\n												Request Meeting Link\n											 \n\n										Request Meeting Link									\n										× \n\nRequest Meeting Link: NH Open Ed Public Consortium Event\n\nName*\n                                                    \n                                                    First\n                                                    \n                                                    Last\n                        \nEmail*\n                            \n                        \nFrom your email address\, it looks like you may not be affiliated with Plymouth  State University. Please tell us in a sentence or two about your interest in this program.*\nCAPTCHA\nCommentsThis field is for validation purposes and should be left unchanged.\n\n          \n            \n            \n            \n            \n            \n            \n            \n                        \n                \n								\n									Close
URL:https://colab.plymouthcreate.net/event/nh-open-ed-public-consortium-event/
LOCATION:Virtual
CATEGORIES:Collaboration,Open Education
END:VEVENT
END:VCALENDAR