BEGIN:VCALENDAR
VERSION:2.0
PRODID:-//The Open Learning &amp; Teaching Collaborative - ECPv6.15.20//NONSGML v1.0//EN
CALSCALE:GREGORIAN
METHOD:PUBLISH
X-WR-CALNAME:The Open Learning &amp; Teaching Collaborative
X-ORIGINAL-URL:https://colab.plymouthcreate.net
X-WR-CALDESC:Events for The Open Learning &amp; Teaching Collaborative
REFRESH-INTERVAL;VALUE=DURATION:PT1H
X-Robots-Tag:noindex
X-PUBLISHED-TTL:PT1H
BEGIN:VTIMEZONE
TZID:America/New_York
BEGIN:DAYLIGHT
TZOFFSETFROM:-0500
TZOFFSETTO:-0400
TZNAME:EDT
DTSTART:20180311T070000
END:DAYLIGHT
BEGIN:STANDARD
TZOFFSETFROM:-0400
TZOFFSETTO:-0500
TZNAME:EST
DTSTART:20181104T060000
END:STANDARD
BEGIN:DAYLIGHT
TZOFFSETFROM:-0500
TZOFFSETTO:-0400
TZNAME:EDT
DTSTART:20190310T070000
END:DAYLIGHT
BEGIN:STANDARD
TZOFFSETFROM:-0400
TZOFFSETTO:-0500
TZNAME:EST
DTSTART:20191103T060000
END:STANDARD
BEGIN:DAYLIGHT
TZOFFSETFROM:-0500
TZOFFSETTO:-0400
TZNAME:EDT
DTSTART:20200308T070000
END:DAYLIGHT
BEGIN:STANDARD
TZOFFSETFROM:-0400
TZOFFSETTO:-0500
TZNAME:EST
DTSTART:20201101T060000
END:STANDARD
END:VTIMEZONE
BEGIN:VEVENT
DTSTART;TZID=America/New_York:20190926T140000
DTEND;TZID=America/New_York:20190926T150000
DTSTAMP:20260425T142021
CREATED:20190826T153541Z
LAST-MODIFIED:20190828T134838Z
UID:10000077-1569506400-1569510000@colab.plymouthcreate.net
SUMMARY:Collaborating Across Disciplines with the Proposed TIDE Certificate
DESCRIPTION:Faculty in the I&E Cluster have proposed a new TIDE Certificate (Transformative Innovation & Design Entrepreneurship)\, a 16-credit adventure in Entrepreneurship and Innovation open to any student\, any cluster\, any major & any discipline.  TIDE empowers students to realize their dreams\, blaze through their limits\, and realize their passions by creating value for others. Think Arts Entrepreneurship\, Meteorological Innovation\, Adventure Enterprises . . . \nIn this workshop\, we are excited to initiate a dialogue with humanities\, arts\, social science\, and science faculty. In this workshop\, we hope to explore how these 16 credits of dynamic applied experiential learning could support existing programs and students in the liberal arts. \nWorkshop Leaders: Deborah Brownstein\, Eric Spieth\, and Howard Frederick of the I&E Cluster
URL:https://colab.plymouthcreate.net/event/collaborating-across-disciplines-with-the-tide-certificate-2/
LOCATION:CoLab (Lamson Library 003)
CATEGORIES:Collaboration,Interdisciplinarity
END:VEVENT
BEGIN:VEVENT
DTSTART;TZID=America/New_York:20190927T090000
DTEND;TZID=America/New_York:20190927T100000
DTSTAMP:20260425T142021
CREATED:20190827T201505Z
LAST-MODIFIED:20190827T201505Z
UID:10000067-1569574800-1569578400@colab.plymouthcreate.net
SUMMARY:Collaborating Across Disciplines with the Proposed TIDE Certificate
DESCRIPTION:Faculty from the I&E Cluster are proposing a new TIDE Certificate (Transformative Innovation & Design Entrepreneurship)\, a 16-credit adventure in Entrepreneurship and Innovation open to any student\, any cluster\, any major & any discipline.  TIDE will empower students to realize their dreams\, blaze through their limits\, and realize their passions by creating value for others. Think Arts Entrepreneurship\, Meteorological Innovation\, Adventure Enterprises . . . \nIn this workshop\, we are excited to initiate a dialogue with humanities\, arts\, social science\, and science faculty. In this workshop\, we hope to explore how these 16 credits of dynamic applied experiential learning could support existing programs and students in the liberal arts. \nWorkshop Leaders: Deborah Brownstein\, Eric Spieth\, and Howard Frederick of the I&E Cluster
URL:https://colab.plymouthcreate.net/event/collaborating-across-disciplines-with-the-tide-certificate/
LOCATION:CoLab (Lamson Library 003)
CATEGORIES:Collaboration,Interdisciplinarity
END:VEVENT
END:VCALENDAR