BEGIN:VCALENDAR
VERSION:2.0
PRODID:-//The Open Learning &amp; Teaching Collaborative - ECPv6.15.20//NONSGML v1.0//EN
CALSCALE:GREGORIAN
METHOD:PUBLISH
X-ORIGINAL-URL:https://colab.plymouthcreate.net
X-WR-CALDESC:Events for The Open Learning &amp; Teaching Collaborative
REFRESH-INTERVAL;VALUE=DURATION:PT1H
X-Robots-Tag:noindex
X-PUBLISHED-TTL:PT1H
BEGIN:VTIMEZONE
TZID:America/New_York
BEGIN:DAYLIGHT
TZOFFSETFROM:-0500
TZOFFSETTO:-0400
TZNAME:EDT
DTSTART:20230312T070000
END:DAYLIGHT
BEGIN:STANDARD
TZOFFSETFROM:-0400
TZOFFSETTO:-0500
TZNAME:EST
DTSTART:20231105T060000
END:STANDARD
BEGIN:DAYLIGHT
TZOFFSETFROM:-0500
TZOFFSETTO:-0400
TZNAME:EDT
DTSTART:20240310T070000
END:DAYLIGHT
BEGIN:STANDARD
TZOFFSETFROM:-0400
TZOFFSETTO:-0500
TZNAME:EST
DTSTART:20241103T060000
END:STANDARD
BEGIN:DAYLIGHT
TZOFFSETFROM:-0500
TZOFFSETTO:-0400
TZNAME:EDT
DTSTART:20250309T070000
END:DAYLIGHT
BEGIN:STANDARD
TZOFFSETFROM:-0400
TZOFFSETTO:-0500
TZNAME:EST
DTSTART:20251102T060000
END:STANDARD
END:VTIMEZONE
BEGIN:VEVENT
DTSTART;TZID=America/New_York:20240904T140000
DTEND;TZID=America/New_York:20240904T150000
DTSTAMP:20260424T235121
CREATED:20240827T160625Z
LAST-MODIFIED:20240827T162019Z
UID:10000525-1725458400-1725462000@colab.plymouthcreate.net
SUMMARY:HoME Office Hours (Wednesdays with John Krueckeberg)
DESCRIPTION:Would you like to discuss developing an INCAP? Would you like to brainstorm activities to support students in developing the Habits of Mind? Are you wanting to chat about how to guide students’ project work in TWP? \nMEET WITH HOME FACULTY TO DISCUSS YOUR IDEAS! \nThis event is part of a series of events being offered by (and shared on behalf of) the HoME faculty. Check our event calendar for sessions on Mondays and Thursdays\, as well.
URL:https://colab.plymouthcreate.net/event/home-office-hours-wednesdays-with-john-krueckeberg/2024-09-04/
LOCATION:Memorial Hall 116
CATEGORIES:Closed (PSU Only),HoME
END:VEVENT
BEGIN:VEVENT
DTSTART;TZID=America/New_York:20240905T115000
DTEND;TZID=America/New_York:20240905T125000
DTSTAMP:20260424T235121
CREATED:20240827T161408Z
LAST-MODIFIED:20240827T161958Z
UID:10000591-1725537000-1725540600@colab.plymouthcreate.net
SUMMARY:HoME Office Hours (Thursdays with Elisabeth Johnston)
DESCRIPTION:Would you like to discuss developing an INCAP? Would you like to brainstorm activities to support students in developing the Habits of Mind? Are you wanting to chat about how to guide students’ project work in TWP? \nMEET WITH HOME FACULTY TO DISCUSS YOUR IDEAS! \nThis event is part of a series of events being offered by (and shared on behalf of) the HoME faculty. Check our event calendar for sessions on Mondays and Wednesdays\, as well.
URL:https://colab.plymouthcreate.net/event/home-office-hours-thursdays-with-elisabeth-johnston/2024-09-05/
LOCATION:Rounds 014
CATEGORIES:Closed (PSU Only),HoME
END:VEVENT
BEGIN:VEVENT
DTSTART;TZID=America/New_York:20240909T083000
DTEND;TZID=America/New_York:20240909T093000
DTSTAMP:20260424T235121
CREATED:20240827T160424Z
LAST-MODIFIED:20240827T161107Z
UID:10000459-1725870600-1725874200@colab.plymouthcreate.net
SUMMARY:HoME Office Hours (Mondays with Amanda Whitworth)
DESCRIPTION:Would you like to discuss developing an INCAP? Would you like to brainstorm activities to support students in developing the Habits of Mind? Are you wanting to chat about how to guide students’ project work in TWP? \nMEET WITH HOME FACULTY TO DISCUSS YOUR IDEAS! \nThis event is part of a series of events being offered by (and shared on behalf of) the HoME faculty. Check our event calendar for sessions on Wednesday and Thursdays\, as well.
URL:https://colab.plymouthcreate.net/event/home-office-hours-mondays-with-amanda-whitworth/2024-09-09/
LOCATION:Memorial Hall 110
CATEGORIES:Closed (PSU Only),HoME
END:VEVENT
BEGIN:VEVENT
DTSTART;TZID=America/New_York:20240911T140000
DTEND;TZID=America/New_York:20240911T150000
DTSTAMP:20260424T235121
CREATED:20240827T160625Z
LAST-MODIFIED:20240827T162019Z
UID:10000526-1726063200-1726066800@colab.plymouthcreate.net
SUMMARY:HoME Office Hours (Wednesdays with John Krueckeberg)
DESCRIPTION:Would you like to discuss developing an INCAP? Would you like to brainstorm activities to support students in developing the Habits of Mind? Are you wanting to chat about how to guide students’ project work in TWP? \nMEET WITH HOME FACULTY TO DISCUSS YOUR IDEAS! \nThis event is part of a series of events being offered by (and shared on behalf of) the HoME faculty. Check our event calendar for sessions on Mondays and Thursdays\, as well.
URL:https://colab.plymouthcreate.net/event/home-office-hours-wednesdays-with-john-krueckeberg/2024-09-11/
LOCATION:Memorial Hall 116
CATEGORIES:Closed (PSU Only),HoME
END:VEVENT
BEGIN:VEVENT
DTSTART;TZID=America/New_York:20240912T115000
DTEND;TZID=America/New_York:20240912T125000
DTSTAMP:20260424T235121
CREATED:20240912T130803Z
LAST-MODIFIED:20240912T130803Z
UID:10000592-1726141800-1726145400@colab.plymouthcreate.net
SUMMARY:CANCELLED HoME Office Hours (Thursdays with Elisabeth Johnston)
DESCRIPTION:NOTE: THIS SESSION OF OFFICE HOURS IS CANCELLED \nWould you like to discuss developing an INCAP? Would you like to brainstorm activities to support students in developing the Habits of Mind? Are you wanting to chat about how to guide students’ project work in TWP? \nMEET WITH HOME FACULTY TO DISCUSS YOUR IDEAS! \nThis event is part of a series of events being offered by (and shared on behalf of) the HoME faculty. Check our event calendar for sessions on Mondays and Wednesdays\, as well.
URL:https://colab.plymouthcreate.net/event/home-office-hours-thursdays-with-elisabeth-johnston-4/
LOCATION:Rounds 014
CATEGORIES:Closed (PSU Only),HoME
END:VEVENT
BEGIN:VEVENT
DTSTART;TZID=America/New_York:20240916T083000
DTEND;TZID=America/New_York:20240916T093000
DTSTAMP:20260424T235121
CREATED:20240827T160424Z
LAST-MODIFIED:20240827T161107Z
UID:10000460-1726475400-1726479000@colab.plymouthcreate.net
SUMMARY:HoME Office Hours (Mondays with Amanda Whitworth)
DESCRIPTION:Would you like to discuss developing an INCAP? Would you like to brainstorm activities to support students in developing the Habits of Mind? Are you wanting to chat about how to guide students’ project work in TWP? \nMEET WITH HOME FACULTY TO DISCUSS YOUR IDEAS! \nThis event is part of a series of events being offered by (and shared on behalf of) the HoME faculty. Check our event calendar for sessions on Wednesday and Thursdays\, as well.
URL:https://colab.plymouthcreate.net/event/home-office-hours-mondays-with-amanda-whitworth/2024-09-16/
LOCATION:Memorial Hall 110
CATEGORIES:Closed (PSU Only),HoME
END:VEVENT
BEGIN:VEVENT
DTSTART;TZID=America/New_York:20240918T140000
DTEND;TZID=America/New_York:20240918T150000
DTSTAMP:20260424T235121
CREATED:20240827T160625Z
LAST-MODIFIED:20240827T162019Z
UID:10000527-1726668000-1726671600@colab.plymouthcreate.net
SUMMARY:HoME Office Hours (Wednesdays with John Krueckeberg)
DESCRIPTION:Would you like to discuss developing an INCAP? Would you like to brainstorm activities to support students in developing the Habits of Mind? Are you wanting to chat about how to guide students’ project work in TWP? \nMEET WITH HOME FACULTY TO DISCUSS YOUR IDEAS! \nThis event is part of a series of events being offered by (and shared on behalf of) the HoME faculty. Check our event calendar for sessions on Mondays and Thursdays\, as well.
URL:https://colab.plymouthcreate.net/event/home-office-hours-wednesdays-with-john-krueckeberg/2024-09-18/
LOCATION:Memorial Hall 116
CATEGORIES:Closed (PSU Only),HoME
END:VEVENT
BEGIN:VEVENT
DTSTART;TZID=America/New_York:20240919T115000
DTEND;TZID=America/New_York:20240919T125000
DTSTAMP:20260424T235121
CREATED:20240827T161408Z
LAST-MODIFIED:20240827T161958Z
UID:10000593-1726746600-1726750200@colab.plymouthcreate.net
SUMMARY:HoME Office Hours (Thursdays with Elisabeth Johnston)
DESCRIPTION:Would you like to discuss developing an INCAP? Would you like to brainstorm activities to support students in developing the Habits of Mind? Are you wanting to chat about how to guide students’ project work in TWP? \nMEET WITH HOME FACULTY TO DISCUSS YOUR IDEAS! \nThis event is part of a series of events being offered by (and shared on behalf of) the HoME faculty. Check our event calendar for sessions on Mondays and Wednesdays\, as well.
URL:https://colab.plymouthcreate.net/event/home-office-hours-thursdays-with-elisabeth-johnston/2024-09-19/
LOCATION:Rounds 014
CATEGORIES:Closed (PSU Only),HoME
END:VEVENT
BEGIN:VEVENT
DTSTART;TZID=America/New_York:20240923T083000
DTEND;TZID=America/New_York:20240923T093000
DTSTAMP:20260424T235121
CREATED:20240827T160424Z
LAST-MODIFIED:20240827T161107Z
UID:10000461-1727080200-1727083800@colab.plymouthcreate.net
SUMMARY:HoME Office Hours (Mondays with Amanda Whitworth)
DESCRIPTION:Would you like to discuss developing an INCAP? Would you like to brainstorm activities to support students in developing the Habits of Mind? Are you wanting to chat about how to guide students’ project work in TWP? \nMEET WITH HOME FACULTY TO DISCUSS YOUR IDEAS! \nThis event is part of a series of events being offered by (and shared on behalf of) the HoME faculty. Check our event calendar for sessions on Wednesday and Thursdays\, as well.
URL:https://colab.plymouthcreate.net/event/home-office-hours-mondays-with-amanda-whitworth/2024-09-23/
LOCATION:Memorial Hall 110
CATEGORIES:Closed (PSU Only),HoME
END:VEVENT
BEGIN:VEVENT
DTSTART;TZID=America/New_York:20240925T140000
DTEND;TZID=America/New_York:20240925T150000
DTSTAMP:20260424T235121
CREATED:20240827T160625Z
LAST-MODIFIED:20240827T162019Z
UID:10000528-1727272800-1727276400@colab.plymouthcreate.net
SUMMARY:HoME Office Hours (Wednesdays with John Krueckeberg)
DESCRIPTION:Would you like to discuss developing an INCAP? Would you like to brainstorm activities to support students in developing the Habits of Mind? Are you wanting to chat about how to guide students’ project work in TWP? \nMEET WITH HOME FACULTY TO DISCUSS YOUR IDEAS! \nThis event is part of a series of events being offered by (and shared on behalf of) the HoME faculty. Check our event calendar for sessions on Mondays and Thursdays\, as well.
URL:https://colab.plymouthcreate.net/event/home-office-hours-wednesdays-with-john-krueckeberg/2024-09-25/
LOCATION:Memorial Hall 116
CATEGORIES:Closed (PSU Only),HoME
END:VEVENT
BEGIN:VEVENT
DTSTART;TZID=America/New_York:20240926T115000
DTEND;TZID=America/New_York:20240926T125000
DTSTAMP:20260424T235121
CREATED:20240827T161408Z
LAST-MODIFIED:20240827T161958Z
UID:10000594-1727351400-1727355000@colab.plymouthcreate.net
SUMMARY:HoME Office Hours (Thursdays with Elisabeth Johnston)
DESCRIPTION:Would you like to discuss developing an INCAP? Would you like to brainstorm activities to support students in developing the Habits of Mind? Are you wanting to chat about how to guide students’ project work in TWP? \nMEET WITH HOME FACULTY TO DISCUSS YOUR IDEAS! \nThis event is part of a series of events being offered by (and shared on behalf of) the HoME faculty. Check our event calendar for sessions on Mondays and Wednesdays\, as well.
URL:https://colab.plymouthcreate.net/event/home-office-hours-thursdays-with-elisabeth-johnston/2024-09-26/
LOCATION:Rounds 014
CATEGORIES:Closed (PSU Only),HoME
END:VEVENT
BEGIN:VEVENT
DTSTART;TZID=America/New_York:20240930T083000
DTEND;TZID=America/New_York:20240930T093000
DTSTAMP:20260424T235122
CREATED:20240827T160424Z
LAST-MODIFIED:20240827T161107Z
UID:10000462-1727685000-1727688600@colab.plymouthcreate.net
SUMMARY:HoME Office Hours (Mondays with Amanda Whitworth)
DESCRIPTION:Would you like to discuss developing an INCAP? Would you like to brainstorm activities to support students in developing the Habits of Mind? Are you wanting to chat about how to guide students’ project work in TWP? \nMEET WITH HOME FACULTY TO DISCUSS YOUR IDEAS! \nThis event is part of a series of events being offered by (and shared on behalf of) the HoME faculty. Check our event calendar for sessions on Wednesday and Thursdays\, as well.
URL:https://colab.plymouthcreate.net/event/home-office-hours-mondays-with-amanda-whitworth/2024-09-30/
LOCATION:Memorial Hall 110
CATEGORIES:Closed (PSU Only),HoME
END:VEVENT
END:VCALENDAR