BEGIN:VCALENDAR
VERSION:2.0
PRODID:-//The Open Learning &amp; Teaching Collaborative - ECPv6.15.20//NONSGML v1.0//EN
CALSCALE:GREGORIAN
METHOD:PUBLISH
X-WR-CALNAME:The Open Learning &amp; Teaching Collaborative
X-ORIGINAL-URL:https://colab.plymouthcreate.net
X-WR-CALDESC:Events for The Open Learning &amp; Teaching Collaborative
REFRESH-INTERVAL;VALUE=DURATION:PT1H
X-Robots-Tag:noindex
X-PUBLISHED-TTL:PT1H
BEGIN:VTIMEZONE
TZID:America/New_York
BEGIN:DAYLIGHT
TZOFFSETFROM:-0500
TZOFFSETTO:-0400
TZNAME:EDT
DTSTART:20220313T070000
END:DAYLIGHT
BEGIN:STANDARD
TZOFFSETFROM:-0400
TZOFFSETTO:-0500
TZNAME:EST
DTSTART:20221106T060000
END:STANDARD
BEGIN:DAYLIGHT
TZOFFSETFROM:-0500
TZOFFSETTO:-0400
TZNAME:EDT
DTSTART:20230312T070000
END:DAYLIGHT
BEGIN:STANDARD
TZOFFSETFROM:-0400
TZOFFSETTO:-0500
TZNAME:EST
DTSTART:20231105T060000
END:STANDARD
BEGIN:DAYLIGHT
TZOFFSETFROM:-0500
TZOFFSETTO:-0400
TZNAME:EDT
DTSTART:20240310T070000
END:DAYLIGHT
BEGIN:STANDARD
TZOFFSETFROM:-0400
TZOFFSETTO:-0500
TZNAME:EST
DTSTART:20241103T060000
END:STANDARD
END:VTIMEZONE
BEGIN:VEVENT
DTSTART;TZID=America/New_York:20230505T083000
DTEND;TZID=America/New_York:20230505T113000
DTSTAMP:20260415T195711
CREATED:20230224T152621Z
LAST-MODIFIED:20230224T152903Z
UID:10000384-1683275400-1683286200@colab.plymouthcreate.net
SUMMARY:Design Forward: Strategic Plan Alignment (Retention & Persistence)
DESCRIPTION:This is a closed session for Nursing and HHP faculty. Invited faculty should select ONE of the two available dates. Anyone who teaches for Nursing or HHP is encouraged to attend. These are in-person sessions. Coffee and tea are provided. \n\nDate 1: May 5\, 2023 8:30-11:30am\nDate 2: May 15\, 2023 9am-12pm\n\nOops! We could not locate your form.
URL:https://colab.plymouthcreate.net/event/design-forward-strategic-plan-alignment-retention-persistence/
LOCATION:CoLab (Lamson Library 003)
CATEGORIES:Closed Event,Design Forward
END:VEVENT
END:VCALENDAR