BEGIN:VCALENDAR
VERSION:2.0
PRODID:-//The Open Learning &amp; Teaching Collaborative - ECPv6.15.20//NONSGML v1.0//EN
CALSCALE:GREGORIAN
METHOD:PUBLISH
X-WR-CALNAME:The Open Learning &amp; Teaching Collaborative
X-ORIGINAL-URL:https://colab.plymouthcreate.net
X-WR-CALDESC:Events for The Open Learning &amp; Teaching Collaborative
REFRESH-INTERVAL;VALUE=DURATION:PT1H
X-Robots-Tag:noindex
X-PUBLISHED-TTL:PT1H
BEGIN:VTIMEZONE
TZID:America/New_York
BEGIN:DAYLIGHT
TZOFFSETFROM:-0500
TZOFFSETTO:-0400
TZNAME:EDT
DTSTART:20200308T070000
END:DAYLIGHT
BEGIN:STANDARD
TZOFFSETFROM:-0400
TZOFFSETTO:-0500
TZNAME:EST
DTSTART:20201101T060000
END:STANDARD
BEGIN:DAYLIGHT
TZOFFSETFROM:-0500
TZOFFSETTO:-0400
TZNAME:EDT
DTSTART:20210314T070000
END:DAYLIGHT
BEGIN:STANDARD
TZOFFSETFROM:-0400
TZOFFSETTO:-0500
TZNAME:EST
DTSTART:20211107T060000
END:STANDARD
BEGIN:DAYLIGHT
TZOFFSETFROM:-0500
TZOFFSETTO:-0400
TZNAME:EDT
DTSTART:20220313T070000
END:DAYLIGHT
BEGIN:STANDARD
TZOFFSETFROM:-0400
TZOFFSETTO:-0500
TZNAME:EST
DTSTART:20221106T060000
END:STANDARD
END:VTIMEZONE
BEGIN:VEVENT
DTSTART;TZID=America/New_York:20210915T140000
DTEND;TZID=America/New_York:20210915T150000
DTSTAMP:20260423T165959
CREATED:20210826T200917Z
LAST-MODIFIED:20210830T125123Z
UID:10000139-1631714400-1631718000@colab.plymouthcreate.net
SUMMARY:Making Courses Look Good: Resources for Canvas Design
DESCRIPTION:Our partners from Teaching & Learning Technologies present this workshop on tips and tricks for beautifying Canvas courses using PowerPoint\, HTML\, and our new Canvas Template. Back from University Days by popular demand! This is a remote event\, offered on Zoom. Presented by Erika Rydberg and Megan Smith. For PSU faculty and staff.\n									\n												Request Meeting Link\n											 \n\n										Request Meeting Link									\n										×\n                            Request video conference link for “Making Canvas Courses Look Good” \n\n\nName*\n                                                    \n                                                    First\n                                                    \n                                                    Last\n                        \nEmail*Please enter your PSU email address. NOTE: This event is restricted to PSU community members.\n                            \n                        \nCAPTCHA\nCommentsThis field is for validation purposes and should be left unchanged.\n\n          \n            \n            \n            \n            \n            \n            \n            \n                        \n                \n								\n									Close
URL:https://colab.plymouthcreate.net/event/making-courses-look-good-resources-for-canvas-design/
LOCATION:Virtual
CATEGORIES:Closed Event
END:VEVENT
BEGIN:VEVENT
DTSTART;TZID=America/New_York:20210927T160000
DTEND;TZID=America/New_York:20210927T170000
DTSTAMP:20260423T165959
CREATED:20210830T165645Z
LAST-MODIFIED:20210830T165645Z
UID:10000145-1632758400-1632762000@colab.plymouthcreate.net
SUMMARY:Design Forward Meet-Up
DESCRIPTION:This is a closed meeting of the summer 2021 Design Forward participants.
URL:https://colab.plymouthcreate.net/event/design-forward-meet-up/
LOCATION:CoLab (Lamson Library 003)
CATEGORIES:Closed Event,Critical Instructional Design
ORGANIZER;CN="Martha Burtis":MAILTO:mfburtis@plymouth.edu
END:VEVENT
END:VCALENDAR