BEGIN:VCALENDAR
VERSION:2.0
PRODID:-//The Open Learning &amp; Teaching Collaborative - ECPv6.15.20//NONSGML v1.0//EN
CALSCALE:GREGORIAN
METHOD:PUBLISH
X-WR-CALNAME:The Open Learning &amp; Teaching Collaborative
X-ORIGINAL-URL:https://colab.plymouthcreate.net
X-WR-CALDESC:Events for The Open Learning &amp; Teaching Collaborative
REFRESH-INTERVAL;VALUE=DURATION:PT1H
X-Robots-Tag:noindex
X-PUBLISHED-TTL:PT1H
BEGIN:VTIMEZONE
TZID:America/New_York
BEGIN:DAYLIGHT
TZOFFSETFROM:-0500
TZOFFSETTO:-0400
TZNAME:EDT
DTSTART:20200308T070000
END:DAYLIGHT
BEGIN:STANDARD
TZOFFSETFROM:-0400
TZOFFSETTO:-0500
TZNAME:EST
DTSTART:20201101T060000
END:STANDARD
BEGIN:DAYLIGHT
TZOFFSETFROM:-0500
TZOFFSETTO:-0400
TZNAME:EDT
DTSTART:20210314T070000
END:DAYLIGHT
BEGIN:STANDARD
TZOFFSETFROM:-0400
TZOFFSETTO:-0500
TZNAME:EST
DTSTART:20211107T060000
END:STANDARD
BEGIN:DAYLIGHT
TZOFFSETFROM:-0500
TZOFFSETTO:-0400
TZNAME:EDT
DTSTART:20220313T070000
END:DAYLIGHT
BEGIN:STANDARD
TZOFFSETFROM:-0400
TZOFFSETTO:-0500
TZNAME:EST
DTSTART:20221106T060000
END:STANDARD
END:VTIMEZONE
BEGIN:VEVENT
DTSTART;TZID=America/New_York:20210310T080000
DTEND;TZID=America/New_York:20210310T090000
DTSTAMP:20260424T131018
CREATED:20210223T152517Z
LAST-MODIFIED:20210223T160020Z
UID:10000112-1615363200-1615366800@colab.plymouthcreate.net
SUMMARY:Own Your Professional Development (Asynchronous)
DESCRIPTION:From March 10th to March 17th\, in an asynchronous discussion on Teams\, we will identify areas within our work content\, space\, and day where we can self-direct our own professional development. This rich discussion will help establish a community of practice among our staff and bring professional development right to our desks on our own time. \nPlease note that this event is asynchronous and we encourage participation from March 10th to March 17th!! \nFor registration and join information\, navigate to http://psucampuswellnessdays2021.sched.com. The password has been sent to your PSU email. If you need help\, contact psu-open@plymouth.edu.
URL:https://colab.plymouthcreate.net/event/own-your-professional-development-asynchronous/
LOCATION:Remote
CATEGORIES:Career Development
END:VEVENT
BEGIN:VEVENT
DTSTART;TZID=America/New_York:20210318T110000
DTEND;TZID=America/New_York:20210318T113000
DTSTAMP:20260424T131018
CREATED:20210223T160057Z
LAST-MODIFIED:20210223T160142Z
UID:10000118-1616065200-1616067000@colab.plymouthcreate.net
SUMMARY:[Insert Your Job Here] Is Teaching! (Live Virtual Event)
DESCRIPTION:When we take on the mind of a teacher\, our positions and the reach of our impact begins to transform! Join us in this session where we will talk about our strengths\, the areas of need around us\, and how our perceptions of our roles as staff members can empower us. \nFor registration and join information\, navigate to http://psucampuswellnessdays2021.sched.com. The password has been sent to your PSU email. If you need help\, contact psu-open@plymouth.edu.
URL:https://colab.plymouthcreate.net/event/insert-your-job-here-is-teaching-live-virtual-event/
LOCATION:Virtual
CATEGORIES:Career Development
END:VEVENT
END:VCALENDAR