BEGIN:VCALENDAR
VERSION:2.0
PRODID:-//The Open Learning &amp; Teaching Collaborative - ECPv6.15.20//NONSGML v1.0//EN
CALSCALE:GREGORIAN
METHOD:PUBLISH
X-WR-CALNAME:The Open Learning &amp; Teaching Collaborative
X-ORIGINAL-URL:https://colab.plymouthcreate.net
X-WR-CALDESC:Events for The Open Learning &amp; Teaching Collaborative
REFRESH-INTERVAL;VALUE=DURATION:PT1H
X-Robots-Tag:noindex
X-PUBLISHED-TTL:PT1H
BEGIN:VTIMEZONE
TZID:America/New_York
BEGIN:DAYLIGHT
TZOFFSETFROM:-0500
TZOFFSETTO:-0400
TZNAME:EDT
DTSTART:20220313T070000
END:DAYLIGHT
BEGIN:STANDARD
TZOFFSETFROM:-0400
TZOFFSETTO:-0500
TZNAME:EST
DTSTART:20221106T060000
END:STANDARD
BEGIN:DAYLIGHT
TZOFFSETFROM:-0500
TZOFFSETTO:-0400
TZNAME:EDT
DTSTART:20230312T070000
END:DAYLIGHT
BEGIN:STANDARD
TZOFFSETFROM:-0400
TZOFFSETTO:-0500
TZNAME:EST
DTSTART:20231105T060000
END:STANDARD
BEGIN:DAYLIGHT
TZOFFSETFROM:-0500
TZOFFSETTO:-0400
TZNAME:EDT
DTSTART:20240310T070000
END:DAYLIGHT
BEGIN:STANDARD
TZOFFSETFROM:-0400
TZOFFSETTO:-0500
TZNAME:EST
DTSTART:20241103T060000
END:STANDARD
END:VTIMEZONE
BEGIN:VEVENT
DTSTART;TZID=America/New_York:20230926T100000
DTEND;TZID=America/New_York:20230926T110000
DTSTAMP:20260415T180421
CREATED:20230824T144325Z
LAST-MODIFIED:20230925T155601Z
UID:10000408-1695722400-1695726000@colab.plymouthcreate.net
SUMMARY:Ins and Outs of Advising at PSU — Fall 2023
DESCRIPTION:Kelsey Donnelly (Academic and Career Advising Center) and Matt Cheney (Interdisciplinary Studies) share information\, ideas\, and advice to help advisors feel confident with the many tools available to help us as advisors at PSU.Oops! We could not locate your form.
URL:https://colab.plymouthcreate.net/event/ins-and-outs-of-advising-at-psu-fall-2023/
LOCATION:CoLab (Lamson Library 003)
CATEGORIES:Advising
END:VEVENT
BEGIN:VEVENT
DTSTART;TZID=America/New_York:20230927T143000
DTEND;TZID=America/New_York:20230927T153000
DTSTAMP:20260415T180421
CREATED:20230824T145654Z
LAST-MODIFIED:20230925T155745Z
UID:10000409-1695825000-1695828600@colab.plymouthcreate.net
SUMMARY:Ins and Outs of Advising at PSU — Fall 2023
DESCRIPTION:Kelsey Donnelly (Academic and Career Advising Center) and Matt Cheney (Interdisciplinary Studies) share information\, ideas\, and advice to help advisors feel confident with the many tools available to help us as advisors at PSU.Oops! We could not locate your form.
URL:https://colab.plymouthcreate.net/event/ins-and-outs-of-advising-at-psu-fall-2023-2/
LOCATION:CoLab (Lamson Library 003)
CATEGORIES:Advising
END:VEVENT
END:VCALENDAR