BEGIN:VCALENDAR
VERSION:2.0
PRODID:-//The Open Learning &amp; Teaching Collaborative - ECPv6.15.20//NONSGML v1.0//EN
CALSCALE:GREGORIAN
METHOD:PUBLISH
X-ORIGINAL-URL:https://colab.plymouthcreate.net
X-WR-CALDESC:Events for The Open Learning &amp; Teaching Collaborative
REFRESH-INTERVAL;VALUE=DURATION:PT1H
X-Robots-Tag:noindex
X-PUBLISHED-TTL:PT1H
BEGIN:VTIMEZONE
TZID:America/New_York
BEGIN:DAYLIGHT
TZOFFSETFROM:-0500
TZOFFSETTO:-0400
TZNAME:EDT
DTSTART:20210314T070000
END:DAYLIGHT
BEGIN:STANDARD
TZOFFSETFROM:-0400
TZOFFSETTO:-0500
TZNAME:EST
DTSTART:20211107T060000
END:STANDARD
BEGIN:DAYLIGHT
TZOFFSETFROM:-0500
TZOFFSETTO:-0400
TZNAME:EDT
DTSTART:20220313T070000
END:DAYLIGHT
BEGIN:STANDARD
TZOFFSETFROM:-0400
TZOFFSETTO:-0500
TZNAME:EST
DTSTART:20221106T060000
END:STANDARD
BEGIN:DAYLIGHT
TZOFFSETFROM:-0500
TZOFFSETTO:-0400
TZNAME:EDT
DTSTART:20230312T070000
END:DAYLIGHT
BEGIN:STANDARD
TZOFFSETFROM:-0400
TZOFFSETTO:-0500
TZNAME:EST
DTSTART:20231105T060000
END:STANDARD
END:VTIMEZONE
BEGIN:VEVENT
DTSTART;TZID=America/New_York:20220906T120000
DTEND;TZID=America/New_York:20220906T121500
DTSTAMP:20260420T152548
CREATED:20220713T144908Z
LAST-MODIFIED:20220906T140707Z
UID:10000344-1662465600-1662466500@colab.plymouthcreate.net
SUMMARY:15in15: What is Open Pedagogy?
DESCRIPTION:Beyond saving students’ money using free\, open learning materials\, what are the pedagogical approaches that have emerged in the Open Education movement?  \nOops! We could not locate your form.
URL:https://colab.plymouthcreate.net/event/what-is-open-pedagogy/
LOCATION:Virtual
CATEGORIES:15in15,Closed (PSU Only),Open Education
END:VEVENT
BEGIN:VEVENT
DTSTART;TZID=America/New_York:20220907T120000
DTEND;TZID=America/New_York:20220907T121500
DTSTAMP:20260420T152548
CREATED:20220713T145054Z
LAST-MODIFIED:20220906T140803Z
UID:10000346-1662552000-1662552900@colab.plymouthcreate.net
SUMMARY:15in15: Let's Talk About Race
DESCRIPTION:Why does it seem so difficult to approach the topic of race? It doesn’t have to be! In this session\, we will explore practical strategies for building race-consciousness and avoiding color-blindness in the classroom. Oops! We could not locate your form.
URL:https://colab.plymouthcreate.net/event/lets-talk-about-race/
LOCATION:Virtual
CATEGORIES:15in15,Closed (PSU Only),Race & Anti-racism
END:VEVENT
BEGIN:VEVENT
DTSTART;TZID=America/New_York:20220908T120000
DTEND;TZID=America/New_York:20220908T121500
DTSTAMP:20260420T152548
CREATED:20220713T145747Z
LAST-MODIFIED:20220829T124742Z
UID:10000347-1662638400-1662639300@colab.plymouthcreate.net
SUMMARY:15in15: Using SIFT for teaching News Literacy
DESCRIPTION:Misinformation and disinformation are everywhere.  This session will give you one idea for introducing news literacy.
URL:https://colab.plymouthcreate.net/event/using-sift-for-teaching-news-literacy/
LOCATION:Virtual
CATEGORIES:15in15,Closed (PSU Only)
END:VEVENT
BEGIN:VEVENT
DTSTART;TZID=America/New_York:20220912T120000
DTEND;TZID=America/New_York:20220912T121500
DTSTAMP:20260420T152548
CREATED:20220713T150503Z
LAST-MODIFIED:20220906T141308Z
UID:10000348-1662984000-1662984900@colab.plymouthcreate.net
SUMMARY:15in15: Give Your Course a Visual Facelift
DESCRIPTION:Get oriented to Canva\, an online tool for designing just about anything. Refresh your syllabi\, overhaul a resource or handout\, or get ideas for incorporating design assignments into your courses. Oops! We could not locate your form.
URL:https://colab.plymouthcreate.net/event/give-your-course-a-visual-facelift/
LOCATION:Virtual
CATEGORIES:15in15,Closed (PSU Only)
ORGANIZER;CN="Martha Burtis":MAILTO:mfburtis@plymouth.edu
END:VEVENT
BEGIN:VEVENT
DTSTART;TZID=America/New_York:20220913T120000
DTEND;TZID=America/New_York:20220913T121500
DTSTAMP:20260420T152548
CREATED:20220713T150628Z
LAST-MODIFIED:20220906T141400Z
UID:10000349-1663070400-1663071300@colab.plymouthcreate.net
SUMMARY:15in15: Without Reservation: Using Library Reserves at PSU
DESCRIPTION:The library is eager to help your students get timely access to your textbooks and other resources\, online or in print. \nOops! We could not locate your form.
URL:https://colab.plymouthcreate.net/event/without-reservation/
LOCATION:Virtual
CATEGORIES:15in15,Closed (PSU Only)
END:VEVENT
BEGIN:VEVENT
DTSTART;TZID=America/New_York:20220914T120000
DTEND;TZID=America/New_York:20220914T121500
DTSTAMP:20260420T152548
CREATED:20220713T151141Z
LAST-MODIFIED:20220829T124814Z
UID:10000350-1663156800-1663157700@colab.plymouthcreate.net
SUMMARY:15in15: Making Your Life a Little Easier by Marrying Your Syllabus to OneDrive
DESCRIPTION:Learn how to link your syllabus to OneDrive in order to make automatic updates appear in Canvas.Oops! We could not locate your form.
URL:https://colab.plymouthcreate.net/event/making-your-life-a-little-easier-by-marrying-your-syllabus-to-onedrive/
LOCATION:Virtual
CATEGORIES:15in15,Closed (PSU Only)
END:VEVENT
BEGIN:VEVENT
DTSTART;TZID=America/New_York:20220915T120000
DTEND;TZID=America/New_York:20220915T121500
DTSTAMP:20260420T152548
CREATED:20220713T151305Z
LAST-MODIFIED:20220829T124822Z
UID:10000351-1663243200-1663244100@colab.plymouthcreate.net
SUMMARY:15in15: Make Your Home on the Web
DESCRIPTION:Learn the basics of getting signed up and started on Plymouth Create\, PSU’s own Domain of One’s Own initiative. Use it to set up a simple website\, share your syllabus\, or create a course resource.Oops! We could not locate your form.
URL:https://colab.plymouthcreate.net/event/make-your-home-on-the-web/
LOCATION:Virtual
CATEGORIES:15in15,Closed (PSU Only)
ORGANIZER;CN="Martha Burtis":MAILTO:mfburtis@plymouth.edu
END:VEVENT
BEGIN:VEVENT
DTSTART;TZID=America/New_York:20220919T120000
DTEND;TZID=America/New_York:20220919T121500
DTSTAMP:20260420T152548
CREATED:20220713T151429Z
LAST-MODIFIED:20220906T141529Z
UID:10000352-1663588800-1663589700@colab.plymouthcreate.net
SUMMARY:15in15: Algorithms in the Classroom 
DESCRIPTION:Ways to engage students on algorithms and their implications for information discovery and privacy.Oops! We could not locate your form.
URL:https://colab.plymouthcreate.net/event/algorithms-in-the-classroom/
LOCATION:Virtual
CATEGORIES:15in15,Closed (PSU Only)
END:VEVENT
BEGIN:VEVENT
DTSTART;TZID=America/New_York:20220920T120000
DTEND;TZID=America/New_York:20220920T121500
DTSTAMP:20260420T152548
CREATED:20220713T161010Z
LAST-MODIFIED:20220906T140956Z
UID:10000214-1663675200-1663676100@colab.plymouthcreate.net
SUMMARY:15in15: Digital Storytelling with Wakelet
DESCRIPTION:With Wakelet\, users can organize online content in a highly visual collection that can be shared and collaborated on. In the classroom\, this can be used for digital storytelling\, creative annotated bibliographies\, current event projects\, and more. Oops! We could not locate your form.
URL:https://colab.plymouthcreate.net/event/digital-storytelling-with-wakelet/
LOCATION:Virtual
CATEGORIES:15in15,Closed (PSU Only)
END:VEVENT
BEGIN:VEVENT
DTSTART;TZID=America/New_York:20220921T120000
DTEND;TZID=America/New_York:20220921T121500
DTSTAMP:20260420T152548
CREATED:20220713T151546Z
LAST-MODIFIED:20220906T141622Z
UID:10000353-1663761600-1663762500@colab.plymouthcreate.net
SUMMARY:15in15: Beyond Access: Designing for Inclusion
DESCRIPTION:We will take just a couple of minutes to ground ourselves in the definitions of accessibility and inclusion and then workshop a concrete example of how instructors might use an individual accommodation as a springboard for rethinking their course design to be more inclusive for all students.Oops! We could not locate your form.
URL:https://colab.plymouthcreate.net/event/beyond-access-designing-for-inclusion/
LOCATION:Virtual
CATEGORIES:15in15,Accessibility,Closed (PSU Only)
END:VEVENT
BEGIN:VEVENT
DTSTART;TZID=America/New_York:20220922T120000
DTEND;TZID=America/New_York:20220922T121500
DTSTAMP:20260420T152548
CREATED:20220713T151708Z
LAST-MODIFIED:20220906T141752Z
UID:10000354-1663848000-1663848900@colab.plymouthcreate.net
SUMMARY:15in15: Teaching with (Online) Primary Sources
DESCRIPTION:Learn strategies for locating primary sources online\, and get the basics on resources that can make it easier to find relevant materials for your teaching.  Oops! We could not locate your form.
URL:https://colab.plymouthcreate.net/event/teaching-with-online-primary-sources/
LOCATION:Virtual
CATEGORIES:15in15,Closed (PSU Only)
END:VEVENT
BEGIN:VEVENT
DTSTART;TZID=America/New_York:20220926T120000
DTEND;TZID=America/New_York:20220926T121500
DTSTAMP:20260420T152548
CREATED:20220713T151901Z
LAST-MODIFIED:20220906T141839Z
UID:10000206-1664193600-1664194500@colab.plymouthcreate.net
SUMMARY:15in15: Energizing the Lecture: 3 ways to Enhance Student Engagement
DESCRIPTION:Methods for incorporating active engagement activities into your lecture. These methods work for in person\, remote\, and recorded lectures! (Like this session? Join Aimee for a full hour on October 6th from 3:45-4:45pm!)Oops! We could not locate your form.
URL:https://colab.plymouthcreate.net/event/energizing-the-lecture-3-ways-to-enhance-student-engagement-2/
LOCATION:Virtual
CATEGORIES:15in15,Closed (PSU Only)
END:VEVENT
BEGIN:VEVENT
DTSTART;TZID=America/New_York:20220927T120000
DTEND;TZID=America/New_York:20220927T121500
DTSTAMP:20260420T152548
CREATED:20220713T152018Z
LAST-MODIFIED:20220906T142207Z
UID:10000208-1664280000-1664280900@colab.plymouthcreate.net
SUMMARY:15in15: Blogging for Fun\, Practice\, and Scholarship
DESCRIPTION:How to easily write\, think\, and share online. What are blogs? What good are they? How might they help you develop a writing practice? What is their connection to learning and teaching? Oops! We could not locate your form.
URL:https://colab.plymouthcreate.net/event/blogging-for-fun-practice-and-scholarship/
LOCATION:Virtual
CATEGORIES:15in15
END:VEVENT
BEGIN:VEVENT
DTSTART;TZID=America/New_York:20220928T120000
DTEND;TZID=America/New_York:20220928T121500
DTSTAMP:20260420T152548
CREATED:20220713T152139Z
LAST-MODIFIED:20220927T210100Z
UID:10000210-1664366400-1664367300@colab.plymouthcreate.net
SUMMARY:CANCELLED 15in15: Using Miro for Student Engagement CANCELLED
DESCRIPTION:This program has been cancelled due to illness. \nEspecially useful for student engagement and collaboration\, Miro is an interactive digital whiteboard with a free educator license. Learn how to get started with Miro and receive a few tips on how to use it in the classroom. Oops! We could not locate your form.
URL:https://colab.plymouthcreate.net/event/using-miro-for-student-engagement/
LOCATION:Virtual
CATEGORIES:15in15
END:VEVENT
BEGIN:VEVENT
DTSTART;TZID=America/New_York:20220929T120000
DTEND;TZID=America/New_York:20220929T121500
DTSTAMP:20260420T152548
CREATED:20220713T152247Z
LAST-MODIFIED:20220906T141048Z
UID:10000212-1664452800-1664453700@colab.plymouthcreate.net
SUMMARY:15in15: Twitter for Academic & Career Impact
DESCRIPTION:Learn how to use Twitter to increase the impact of your scholarly and professional work. For faculty and staff in higher ed\, Twitter can be a powerful tool to help you learn\, network\, and develop in your career. Learn how!Oops! We could not locate your form.
URL:https://colab.plymouthcreate.net/event/twitter-for-academic-career-impact/
LOCATION:Virtual
CATEGORIES:15in15,Closed (PSU Only)
END:VEVENT
END:VCALENDAR