BEGIN:VCALENDAR
VERSION:2.0
PRODID:-//The Open Learning &amp; Teaching Collaborative - ECPv6.15.20//NONSGML v1.0//EN
CALSCALE:GREGORIAN
METHOD:PUBLISH
X-WR-CALNAME:The Open Learning &amp; Teaching Collaborative
X-ORIGINAL-URL:https://colab.plymouthcreate.net
X-WR-CALDESC:Events for The Open Learning &amp; Teaching Collaborative
REFRESH-INTERVAL;VALUE=DURATION:PT1H
X-Robots-Tag:noindex
X-PUBLISHED-TTL:PT1H
BEGIN:VTIMEZONE
TZID:America/New_York
BEGIN:DAYLIGHT
TZOFFSETFROM:-0500
TZOFFSETTO:-0400
TZNAME:EDT
DTSTART:20210314T070000
END:DAYLIGHT
BEGIN:STANDARD
TZOFFSETFROM:-0400
TZOFFSETTO:-0500
TZNAME:EST
DTSTART:20211107T060000
END:STANDARD
BEGIN:DAYLIGHT
TZOFFSETFROM:-0500
TZOFFSETTO:-0400
TZNAME:EDT
DTSTART:20220313T070000
END:DAYLIGHT
BEGIN:STANDARD
TZOFFSETFROM:-0400
TZOFFSETTO:-0500
TZNAME:EST
DTSTART:20221106T060000
END:STANDARD
BEGIN:DAYLIGHT
TZOFFSETFROM:-0500
TZOFFSETTO:-0400
TZNAME:EDT
DTSTART:20230312T070000
END:DAYLIGHT
BEGIN:STANDARD
TZOFFSETFROM:-0400
TZOFFSETTO:-0500
TZNAME:EST
DTSTART:20231105T060000
END:STANDARD
END:VTIMEZONE
BEGIN:VEVENT
DTSTART;TZID=America/New_York:20220216T154500
DTEND;TZID=America/New_York:20220216T163000
DTSTAMP:20260420T141105
CREATED:20220131T202916Z
LAST-MODIFIED:20220207T191158Z
UID:145114-1645026300-1645029000@colab.plymouthcreate.net
SUMMARY:Students Talk with you About Open Educational Resources
DESCRIPTION:Description: Open educational resources = free textbooks! The burden of expensive textbooks on students is an injustice for those who are economically disadvantaged\, but we have the power to do something about that and make college more accessible.   \nOur series\, Students Talk With You About Teaching provides an opportunity for open conversation between students and faculty about pedagogy. CoLab Student Affiliates select the topics they want to talk with you about and plan activities and discussions around their topics.  \nYou may attend all of these sessions to complete the series through CoLab Cred\, or come to any one as a stand-alone.Oops! We could not locate your form.  \n\nStudents Talk With You About Open Educational Resources 2/16 from 3:45-4:45pm\nStudents Talk With You About Group Work and Project-Based Classes 2/27 from 3-4pm\nStudents Talk With You About Empathetic Teaching 4/13 from 3-4pm 
URL:https://colab.plymouthcreate.net/event/students-talk-with-you-about-open-educational-resources/
LOCATION:Virtual
END:VEVENT
END:VCALENDAR