BEGIN:VCALENDAR
VERSION:2.0
PRODID:-//The Open Learning &amp; Teaching Collaborative - ECPv6.15.20//NONSGML v1.0//EN
CALSCALE:GREGORIAN
METHOD:PUBLISH
X-WR-CALNAME:The Open Learning &amp; Teaching Collaborative
X-ORIGINAL-URL:https://colab.plymouthcreate.net
X-WR-CALDESC:Events for The Open Learning &amp; Teaching Collaborative
REFRESH-INTERVAL;VALUE=DURATION:PT1H
X-Robots-Tag:noindex
X-PUBLISHED-TTL:PT1H
BEGIN:VTIMEZONE
TZID:America/New_York
BEGIN:DAYLIGHT
TZOFFSETFROM:-0500
TZOFFSETTO:-0400
TZNAME:EDT
DTSTART:20210314T070000
END:DAYLIGHT
BEGIN:STANDARD
TZOFFSETFROM:-0400
TZOFFSETTO:-0500
TZNAME:EST
DTSTART:20211107T060000
END:STANDARD
BEGIN:DAYLIGHT
TZOFFSETFROM:-0500
TZOFFSETTO:-0400
TZNAME:EDT
DTSTART:20220313T070000
END:DAYLIGHT
BEGIN:STANDARD
TZOFFSETFROM:-0400
TZOFFSETTO:-0500
TZNAME:EST
DTSTART:20221106T060000
END:STANDARD
BEGIN:DAYLIGHT
TZOFFSETFROM:-0500
TZOFFSETTO:-0400
TZNAME:EDT
DTSTART:20230312T070000
END:DAYLIGHT
BEGIN:STANDARD
TZOFFSETFROM:-0400
TZOFFSETTO:-0500
TZNAME:EST
DTSTART:20231105T060000
END:STANDARD
END:VTIMEZONE
BEGIN:VEVENT
DTSTART;TZID=America/New_York:20220217T150000
DTEND;TZID=America/New_York:20220217T160000
DTSTAMP:20260420T154710
CREATED:20220202T184023Z
LAST-MODIFIED:20220202T184023Z
UID:145132-1645110000-1645113600@colab.plymouthcreate.net
SUMMARY:Students Talk With You About Group Work and Project-Based Classes
DESCRIPTION:Group work and project-based work can be some of the most challenging types of work to incorporate into classes for faculty and students. Come hear students talk about their perspective on these important but tricky pedagogical approaches.  \nOur series\, Students Talk With You About Teaching provides an opportunity for open conversation between students and faculty about pedagogy. CoLab Student Affiliates select the topics they want to talk with you about and plan activities and discussions around their topics.  \nYou may attend all of these sessions to complete the series through CoLab Cred\, or come to any one as a stand-alone. \n\nStudents Talk With You About Open Educational Resources 2/16 from 3:45-4:45pm\nStudents Talk With You About Group Work and Project-Based Classes 2/27 from 3-4pm\nStudents Talk With You About Empathetic Teaching 4/13 from 3-4pm\n\nOops! We could not locate your form.
URL:https://colab.plymouthcreate.net/event/students-talk-with-you-about-group-work-and-project-based-classes/
LOCATION:Virtual
END:VEVENT
END:VCALENDAR